{"text_format":"3","workbook":"xlsx","n_sheets":5,"sheets":["■散布量計算シート","作業シート","車速表","吐出量表","追加登録"],"not_rendered":{"images":2,"macros":1,"defined_names":7,"comments":2},"read":"whole","date_system":"1900"}

{"sheet":"■散布量計算シート","index":0,"n_rows":62,"n_cols":12,"rows_kept":62,"merged":[[0,1,0,9],[1,5,1,7],[2,4,2,8],[4,3,4,4],[4,6,4,8],[6,3,6,11],[8,1,8,2],[8,3,8,5],[8,8,8,9],[10,1,10,10],[11,1,11,2],[13,1,13,2],[13,3,13,4],[15,1,15,2],[15,3,15,4],[15,11,16,11],[17,1,17,2],[19,3,19,11],[20,1,20,2],[21,1,26,1],[28,1,28,2],[29,1,29,2],[33,1,33,11],[34,1,34,2],[36,1,36,2],[36,3,36,4],[38,1,38,2],[38,3,38,4],[38,11,39,11],[40,1,40,2],[42,3,42,11],[43,1,43,2],[44,1,49,1],[51,1,51,2],[52,1,52,2],[55,1,55,11],[57,1,57,3],[57,6,57,11],[58,1,58,3],[58,6,58,11],[59,1,61,5],[59,6,59,11],[60,6,60,11],[61,6,61,11],[62,1,62,11]]}
[]
[{"$nulls":5},"散布量計算"]
[{"$nulls":4},"＜＜　金属製スイッチノズル　＞＞"]
[]
[null,"お客様","おところ",null,null,"お名前",{"$nulls":3},"様"]
[]
[null,"製品名","3S-"]
[]
[null,"計算担当者",{"$nulls":6},{"$f":"NOW()","v":"2024-11-22T14:46:47.200"},null,"作成"]
[]
[]
[null,"■散布条件-１"]
[]
[null,"栽培品目/圃場名",{"$nulls":4},"噴霧方向","噴板名称","ノズル個数","吐出量"]
[{"$nulls":9},{"$f":"作業シート!G17","v":{"v":0,"d":"0.0"}},{"$f":"IF($J$18>0,J15/$J$18,0)","v":{"v":0,"d":"0%"}}]
[null,"散布幅（列間隔）",{"$nulls":7},{"$f":"作業シート!G18","v":{"v":0,"d":"0.0"}},{"$f":"IF($J$18>0,J16/$J$18,0)","v":{"v":0,"d":"0%"}},"噴霧ノズル\n最大個数"]
[null,null,"走行距離",{"$f":"IF(D16<>\"\",VLOOKUP(D16,走行距離,2,FALSE),\"\")","v":""},"(m/10a)",{"$nulls":4},{"$f":"作業シート!G19","v":{"v":0,"d":"0.0"}},{"v":0,"d":"0%"}]
[null,"噴霧圧力",null,null,"(MPa)",null,null,"合　計",{"$f":"SUM(I15:I17)","v":0},{"$f":"J15+J16+J17","v":{"v":0,"d":"0.0"}},"(L/分）",{"$f":"IF(D7<>0,VLOOKUP(D7,車速表!A:AH,34,FALSE),0)","v":0}]
[]
[{"$nulls":3},"散　布　量　（L/10a）"]
[null,"エンジン回転数(rpm)",null,1600,1800,2000,2200,2400,2500,2600,2700,2800]
[null,"車速段","低 - 1",{"$f":"IF(ISERROR(作業シート!C23),\"\",INT(作業シート!C23/10+0.5)*10)","v":0},{"$f":"IF(ISERROR(作業シート!D23),\"\",INT(作業シート!D23/10+0.5)*10)","v":0},{"$f":"IF(ISERROR(作業シート!E23),\"\",INT(作業シート!E23/10+0.5)*10)","v":0},{"$f":"IF(ISERROR(作業シート!F23),\"\",INT(作業シート!F23/10+0.5)*10)","v":0},{"$f":"IF(ISERROR(作業シート!G23),\"\",INT(作業シート!G23/10+0.5)*10)","v":0},{"$f":"IF(ISERROR(作業シート!H23),\"\",INT(作業シート!H23/10+0.5)*10)","v":0},{"$f":"IF(ISERROR(作業シート!I23),\"\",INT(作業シート!I23/10+0.5)*10)","v":0},{"$f":"IF(ISERROR(作業シート!J23),\"\",INT(作業シート!J23/10+0.5)*10)","v":0},{"$f":"IF(ISERROR(作業シート!K23),\"\",INT(作業シート!K23/10+0.5)*10)","v":0}]
[null,null,"中 - 1",{"$f":"IF(ISERROR(作業シート!C24),\"\",INT(作業シート!C24/10+0.5)*10)","v":0},{"$f":"IF(ISERROR(作業シート!D24),\"\",INT(作業シート!D24/10+0.5)*10)","v":0},{"$f":"IF(ISERROR(作業シート!E24),\"\",INT(作業シート!E24/10+0.5)*10)","v":0},{"$f":"IF(ISERROR(作業シート!F24),\"\",INT(作業シート!F24/10+0.5)*10)","v":0},{"$f":"IF(ISERROR(作業シート!G24),\"\",INT(作業シート!G24/10+0.5)*10)","v":0},{"$f":"IF(ISERROR(作業シート!H24),\"\",INT(作業シート!H24/10+0.5)*10)","v":0},{"$f":"IF(ISERROR(作業シート!I24),\"\",INT(作業シート!I24/10+0.5)*10)","v":0},{"$f":"IF(ISERROR(作業シート!J24),\"\",INT(作業シート!J24/10+0.5)*10)","v":0},{"$f":"IF(ISERROR(作業シート!K24),\"\",INT(作業シート!K24/10+0.5)*10)","v":0}]
[null,null,"低 - 2",{"$f":"IF(ISERROR(作業シート!C25),\"\",INT(作業シート!C25/10+0.5)*10)","v":0},{"$f":"IF(ISERROR(作業シート!D25),\"\",INT(作業シート!D25/10+0.5)*10)","v":0},{"$f":"IF(ISERROR(作業シート!E25),\"\",INT(作業シート!E25/10+0.5)*10)","v":0},{"$f":"IF(ISERROR(作業シート!F25),\"\",INT(作業シート!F25/10+0.5)*10)","v":0},{"$f":"IF(ISERROR(作業シート!G25),\"\",INT(作業シート!G25/10+0.5)*10)","v":0},{"$f":"IF(ISERROR(作業シート!H25),\"\",INT(作業シート!H25/10+0.5)*10)","v":0},{"$f":"IF(ISERROR(作業シート!I25),\"\",INT(作業シート!I25/10+0.5)*10)","v":0},{"$f":"IF(ISERROR(作業シート!J25),\"\",INT(作業シート!J25/10+0.5)*10)","v":0},{"$f":"IF(ISERROR(作業シート!K25),\"\",INT(作業シート!K25/10+0.5)*10)","v":0}]
[null,null,"中 - 2",{"$f":"IF(ISERROR(作業シート!C26),\"\",INT(作業シート!C26/10+0.5)*10)","v":0},{"$f":"IF(ISERROR(作業シート!D26),\"\",INT(作業シート!D26/10+0.5)*10)","v":0},{"$f":"IF(ISERROR(作業シート!E26),\"\",INT(作業シート!E26/10+0.5)*10)","v":0},{"$f":"IF(ISERROR(作業シート!F26),\"\",INT(作業シート!F26/10+0.5)*10)","v":0},{"$f":"IF(ISERROR(作業シート!G26),\"\",INT(作業シート!G26/10+0.5)*10)","v":0},{"$f":"IF(ISERROR(作業シート!H26),\"\",INT(作業シート!H26/10+0.5)*10)","v":0},{"$f":"IF(ISERROR(作業シート!I26),\"\",INT(作業シート!I26/10+0.5)*10)","v":0},{"$f":"IF(ISERROR(作業シート!J26),\"\",INT(作業シート!J26/10+0.5)*10)","v":0},{"$f":"IF(ISERROR(作業シート!K26),\"\",INT(作業シート!K26/10+0.5)*10)","v":0}]
[null,null,"低 - 3",{"$f":"IF(ISERROR(作業シート!C27),\"\",INT(作業シート!C27/10+0.5)*10)","v":0},{"$f":"IF(ISERROR(作業シート!D27),\"\",INT(作業シート!D27/10+0.5)*10)","v":0},{"$f":"IF(ISERROR(作業シート!E27),\"\",INT(作業シート!E27/10+0.5)*10)","v":0},{"$f":"IF(ISERROR(作業シート!F27),\"\",INT(作業シート!F27/10+0.5)*10)","v":0},{"$f":"IF(ISERROR(作業シート!G27),\"\",INT(作業シート!G27/10+0.5)*10)","v":0},{"$f":"IF(ISERROR(作業シート!H27),\"\",INT(作業シート!H27/10+0.5)*10)","v":0},{"$f":"IF(ISERROR(作業シート!I27),\"\",INT(作業シート!I27/10+0.5)*10)","v":0},{"$f":"IF(ISERROR(作業シート!J27),\"\",INT(作業シート!J27/10+0.5)*10)","v":0},{"$f":"IF(ISERROR(作業シート!K27),\"\",INT(作業シート!K27/10+0.5)*10)","v":0}]
[null,null,"中 - 3",{"$f":"IF(ISERROR(作業シート!C28),\"\",INT(作業シート!C28/10+0.5)*10)","v":0},{"$f":"IF(ISERROR(作業シート!D28),\"\",INT(作業シート!D28/10+0.5)*10)","v":0},{"$f":"IF(ISERROR(作業シート!E28),\"\",INT(作業シート!E28/10+0.5)*10)","v":0},{"$f":"IF(ISERROR(作業シート!F28),\"\",INT(作業シート!F28/10+0.5)*10)","v":0},{"$f":"IF(ISERROR(作業シート!G28),\"\",INT(作業シート!G28/10+0.5)*10)","v":0},{"$f":"IF(ISERROR(作業シート!H28),\"\",INT(作業シート!H28/10+0.5)*10)","v":0},{"$f":"IF(ISERROR(作業シート!I28),\"\",INT(作業シート!I28/10+0.5)*10)","v":0},{"$f":"IF(ISERROR(作業シート!J28),\"\",INT(作業シート!J28/10+0.5)*10)","v":0},{"$f":"IF(ISERROR(作業シート!K28),\"\",INT(作業シート!K28/10+0.5)*10)","v":0}]
[]
[null,"噴霧ポンプ吐出量(L/分)",null,{"$f":"IF(ISERROR(作業シート!C29),\"\",作業シート!C29)","v":0},{"$f":"IF(ISERROR(作業シート!D29),\"\",作業シート!D29)","v":0},{"$f":"IF(ISERROR(作業シート!E29),\"\",作業シート!E29)","v":0},{"$f":"IF(ISERROR(作業シート!F29),\"\",作業シート!F29)","v":0},{"$f":"IF(ISERROR(作業シート!G29),\"\",作業シート!G29)","v":0},{"$f":"IF(ISERROR(作業シート!H29),\"\",作業シート!H29)","v":0},{"$f":"IF(ISERROR(作業シート!I29),\"\",作業シート!I29)","v":0},{"$f":"IF(ISERROR(作業シート!J29),\"\",作業シート!J29)","v":0},{"$f":"IF(ISERROR(作業シート!K29),\"\",作業シート!K29)","v":0}]
[null,"　　 　使用時風量　 (H)",null,{"$f":"IF(ISERROR(作業シート!C30),\"\",作業シート!C30)","v":0},{"$f":"IF(ISERROR(作業シート!D30),\"\",作業シート!D30)","v":0},{"$f":"IF(ISERROR(作業シート!E30),\"\",作業シート!E30)","v":0},{"$f":"IF(ISERROR(作業シート!F30),\"\",作業シート!F30)","v":0},{"$f":"IF(ISERROR(作業シート!G30),\"\",作業シート!G30)","v":0},{"$f":"IF(ISERROR(作業シート!H30),\"\",作業シート!H30)","v":0},{"$f":"IF(ISERROR(作業シート!I30),\"\",作業シート!I30)","v":0},{"$f":"IF(ISERROR(作業シート!J30),\"\",作業シート!J30)","v":0},{"$f":"IF(ISERROR(作業シート!K30),\"\",作業シート!K30)","v":0}]
[null,null," (㎥/分)    (L)",{"$f":"IF(ISERROR(作業シート!C31),\"\",作業シート!C31)","v":0},{"$f":"IF(ISERROR(作業シート!D31),\"\",作業シート!D31)","v":0},{"$f":"IF(ISERROR(作業シート!E31),\"\",作業シート!E31)","v":0},{"$f":"IF(ISERROR(作業シート!F31),\"\",作業シート!F31)","v":0},{"$f":"IF(ISERROR(作業シート!G31),\"\",作業シート!G31)","v":0},{"$f":"IF(ISERROR(作業シート!H31),\"\",作業シート!H31)","v":0},{"$f":"IF(ISERROR(作業シート!I31),\"\",作業シート!I31)","v":0},{"$f":"IF(ISERROR(作業シート!J31),\"\",作業シート!J31)","v":0},{"$f":"IF(ISERROR(作業シート!K31),\"\",作業シート!K31)","v":0}]
[null,"散布時間","中-1（分）",{"$f":"IF(AND(D22>0,$C$32=\"低-1（分）\"),$D$17/1000/作業シート!C6*60,IF(AND(D23>0,$C$32=\"中-1（分）\"),$D$17/1000/作業シート!C7*60,IF(AND(D24>0,$C$32=\"低-2（分）\"),$D$17/1000/作業シート!C8*60,IF(AND(D25>0,$C$32=\"中-2（分）\"),$D$17/1000/作業シート!C9*60,IF(AND(D26>0,$C$32=\"低-3（分）\"),$D$17/1000/作業シート!C10*60,IF(AND(D27>0,$C$32=\"中-3（分）\"),$D$17/1000/作業シート!C11*60,0))))))","v":{"v":0,"d":"0.0"}},{"$f":"IF(AND(E22>0,$C$32=\"低-1（分）\"),$D$17/1000/作業シート!D6*60,IF(AND(E23>0,$C$32=\"中-1（分）\"),$D$17/1000/作業シート!D7*60,IF(AND(E24>0,$C$32=\"低-2（分）\"),$D$17/1000/作業シート!D8*60,IF(AND(E25>0,$C$32=\"中-2（分）\"),$D$17/1000/作業シート!D9*60,IF(AND(E26>0,$C$32=\"低-3（分）\"),$D$17/1000/作業シート!D10*60,IF(AND(E27>0,$C$32=\"中-3（分）\"),$D$17/1000/作業シート!D11*60,0))))))","v":{"v":0,"d":"0.0"}},{"$f":"IF(AND(F22>0,$C$32=\"低-1（分）\"),$D$17/1000/作業シート!E6*60,IF(AND(F23>0,$C$32=\"中-1（分）\"),$D$17/1000/作業シート!E7*60,IF(AND(F24>0,$C$32=\"低-2（分）\"),$D$17/1000/作業シート!E8*60,IF(AND(F25>0,$C$32=\"中-2（分）\"),$D$17/1000/作業シート!E9*60,IF(AND(F26>0,$C$32=\"低-3（分）\"),$D$17/1000/作業シート!E10*60,IF(AND(F27>0,$C$32=\"中-3（分）\"),$D$17/1000/作業シート!E11*60,0))))))","v":{"v":0,"d":"0.0"}},{"$f":"IF(AND(G22>0,$C$32=\"低-1（分）\"),$D$17/1000/作業シート!F6*60,IF(AND(G23>0,$C$32=\"中-1（分）\"),$D$17/1000/作業シート!F7*60,IF(AND(G24>0,$C$32=\"低-2（分）\"),$D$17/1000/作業シート!F8*60,IF(AND(G25>0,$C$32=\"中-2（分）\"),$D$17/1000/作業シート!F9*60,IF(AND(G26>0,$C$32=\"低-3（分）\"),$D$17/1000/作業シート!F10*60,IF(AND(G27>0,$C$32=\"中-3（分）\"),$D$17/1000/作業シート!F11*60,0))))))","v":{"v":0,"d":"0.0"}},{"$f":"IF(AND(H22>0,$C$32=\"低-1（分）\"),$D$17/1000/作業シート!G6*60,IF(AND(H23>0,$C$32=\"中-1（分）\"),$D$17/1000/作業シート!G7*60,IF(AND(H24>0,$C$32=\"低-2（分）\"),$D$17/1000/作業シート!G8*60,IF(AND(H25>0,$C$32=\"中-2（分）\"),$D$17/1000/作業シート!G9*60,IF(AND(H26>0,$C$32=\"低-3（分）\"),$D$17/1000/作業シート!G10*60,IF(AND(H27>0,$C$32=\"中-3（分）\"),$D$17/1000/作業シート!G11*60,0))))))","v":{"v":0,"d":"0.0"}},{"$f":"IF(AND(I22>0,$C$32=\"低-1（分）\"),$D$17/1000/作業シート!H6*60,IF(AND(I23>0,$C$32=\"中-1（分）\"),$D$17/1000/作業シート!H7*60,IF(AND(I24>0,$C$32=\"低-2（分）\"),$D$17/1000/作業シート!H8*60,IF(AND(I25>0,$C$32=\"中-2（分）\"),$D$17/1000/作業シート!H9*60,IF(AND(I26>0,$C$32=\"低-3（分）\"),$D$17/1000/作業シート!H10*60,IF(AND(I27>0,$C$32=\"中-3（分）\"),$D$17/1000/作業シート!H11*60,0))))))","v":{"v":0,"d":"0.0"}},{"$f":"IF(AND(J22>0,$C$32=\"低-1（分）\"),$D$17/1000/作業シート!I6*60,IF(AND(J23>0,$C$32=\"中-1（分）\"),$D$17/1000/作業シート!I7*60,IF(AND(J24>0,$C$32=\"低-2（分）\"),$D$17/1000/作業シート!I8*60,IF(AND(J25>0,$C$32=\"中-2（分）\"),$D$17/1000/作業シート!I9*60,IF(AND(J26>0,$C$32=\"低-3（分）\"),$D$17/1000/作業シート!I10*60,IF(AND(J27>0,$C$32=\"中-3（分）\"),$D$17/1000/作業シート!I11*60,0))))))","v":{"v":0,"d":"0.0"}},{"$f":"IF(AND(K22>0,$C$32=\"低-1（分）\"),$D$17/1000/作業シート!J6*60,IF(AND(K23>0,$C$32=\"中-1（分）\"),$D$17/1000/作業シート!J7*60,IF(AND(K24>0,$C$32=\"低-2（分）\"),$D$17/1000/作業シート!J8*60,IF(AND(K25>0,$C$32=\"中-2（分）\"),$D$17/1000/作業シート!J9*60,IF(AND(K26>0,$C$32=\"低-3（分）\"),$D$17/1000/作業シート!J10*60,IF(AND(K27>0,$C$32=\"中-3（分）\"),$D$17/1000/作業シート!J11*60,0))))))","v":{"v":0,"d":"0.0"}},{"$f":"IF(AND(L22>0,$C$32=\"低-1（分）\"),$D$17/1000/作業シート!K6*60,IF(AND(L23>0,$C$32=\"中-1（分）\"),$D$17/1000/作業シート!K7*60,IF(AND(L24>0,$C$32=\"低-2（分）\"),$D$17/1000/作業シート!K8*60,IF(AND(L25>0,$C$32=\"中-2（分）\"),$D$17/1000/作業シート!K9*60,IF(AND(L26>0,$C$32=\"低-3（分）\"),$D$17/1000/作業シート!K10*60,IF(AND(L27>0,$C$32=\"中-3（分）\"),$D$17/1000/作業シート!K11*60,0))))))","v":{"v":0,"d":"0.0"}}]
[]
[]
[null,"■散布条件-2"]
[]
[null,"栽培品目/圃場名",{"$nulls":4},"噴霧方向","噴板名称","ノズル個数","吐出量"]
[{"$nulls":9},{"$f":"作業シート!G36","v":{"v":0,"d":"0.0"}},{"$f":"IF($J$41>0,J38/$J$41,0)","v":{"v":0,"d":"0%"}}]
[null,"散布幅（列間隔）",{"$nulls":7},{"$f":"作業シート!G37","v":{"v":0,"d":"0.0"}},{"$f":"IF($J$41>0,J39/$J$41,0)","v":{"v":0,"d":"0%"}},"噴霧ノズル\n最大個数"]
[null,null,"走行距離",{"$f":"IF(D39<>\"\",VLOOKUP(D39,走行距離,2,FALSE),\"\")","v":""},"(m/10a)",{"$nulls":4},{"$f":"作業シート!G38","v":{"v":0,"d":"0.0"}},{"v":0,"d":"0%"}]
[null,"噴霧圧力",null,null,"(MPa)",null,null,"合　計",{"$f":"SUM(I38:I40)","v":0},{"$f":"J38+J39+J40","v":{"v":0,"d":"0.0"}},"(L/分）",{"$f":"IF(D7<>0,VLOOKUP(D7,車速表!A:AH,34,FALSE),0)","v":0}]
[]
[{"$nulls":3},"散　布　量　（L/10a）"]
[null,"エンジン回転数(rpm)",null,1600,1800,2000,2200,2400,2500,2600,2700,2800]
[null,"車速段","低 - 1",{"$f":"IF(ISERROR(作業シート!C42),\"\",INT(作業シート!C42/10+0.5)*10)","v":0},{"$f":"IF(ISERROR(作業シート!D42),\"\",INT(作業シート!D42/10+0.5)*10)","v":0},{"$f":"IF(ISERROR(作業シート!E42),\"\",INT(作業シート!E42/10+0.5)*10)","v":0},{"$f":"IF(ISERROR(作業シート!F42),\"\",INT(作業シート!F42/10+0.5)*10)","v":0},{"$f":"IF(ISERROR(作業シート!G42),\"\",INT(作業シート!G42/10+0.5)*10)","v":0},{"$f":"IF(ISERROR(作業シート!H42),\"\",INT(作業シート!H42/10+0.5)*10)","v":0},{"$f":"IF(ISERROR(作業シート!I42),\"\",INT(作業シート!I42/10+0.5)*10)","v":0},{"$f":"IF(ISERROR(作業シート!J42),\"\",INT(作業シート!J42/10+0.5)*10)","v":0},{"$f":"IF(ISERROR(作業シート!K42),\"\",INT(作業シート!K42/10+0.5)*10)","v":0}]
[null,null,"中 - 1",{"$f":"IF(ISERROR(作業シート!C43),\"\",INT(作業シート!C43/10+0.5)*10)","v":0},{"$f":"IF(ISERROR(作業シート!D43),\"\",INT(作業シート!D43/10+0.5)*10)","v":0},{"$f":"IF(ISERROR(作業シート!E43),\"\",INT(作業シート!E43/10+0.5)*10)","v":0},{"$f":"IF(ISERROR(作業シート!F43),\"\",INT(作業シート!F43/10+0.5)*10)","v":0},{"$f":"IF(ISERROR(作業シート!G43),\"\",INT(作業シート!G43/10+0.5)*10)","v":0},{"$f":"IF(ISERROR(作業シート!H43),\"\",INT(作業シート!H43/10+0.5)*10)","v":0},{"$f":"IF(ISERROR(作業シート!I43),\"\",INT(作業シート!I43/10+0.5)*10)","v":0},{"$f":"IF(ISERROR(作業シート!J43),\"\",INT(作業シート!J43/10+0.5)*10)","v":0},{"$f":"IF(ISERROR(作業シート!K43),\"\",INT(作業シート!K43/10+0.5)*10)","v":0}]
[null,null,"低 - 2",{"$f":"IF(ISERROR(作業シート!C44),\"\",INT(作業シート!C44/10+0.5)*10)","v":0},{"$f":"IF(ISERROR(作業シート!D44),\"\",INT(作業シート!D44/10+0.5)*10)","v":0},{"$f":"IF(ISERROR(作業シート!E44),\"\",INT(作業シート!E44/10+0.5)*10)","v":0},{"$f":"IF(ISERROR(作業シート!F44),\"\",INT(作業シート!F44/10+0.5)*10)","v":0},{"$f":"IF(ISERROR(作業シート!G44),\"\",INT(作業シート!G44/10+0.5)*10)","v":0},{"$f":"IF(ISERROR(作業シート!H44),\"\",INT(作業シート!H44/10+0.5)*10)","v":0},{"$f":"IF(ISERROR(作業シート!I44),\"\",INT(作業シート!I44/10+0.5)*10)","v":0},{"$f":"IF(ISERROR(作業シート!J44),\"\",INT(作業シート!J44/10+0.5)*10)","v":0},{"$f":"IF(ISERROR(作業シート!K44),\"\",INT(作業シート!K44/10+0.5)*10)","v":0}]
[null,null,"中 - 2",{"$f":"IF(ISERROR(作業シート!C45),\"\",INT(作業シート!C45/10+0.5)*10)","v":0},{"$f":"IF(ISERROR(作業シート!D45),\"\",INT(作業シート!D45/10+0.5)*10)","v":0},{"$f":"IF(ISERROR(作業シート!E45),\"\",INT(作業シート!E45/10+0.5)*10)","v":0},{"$f":"IF(ISERROR(作業シート!F45),\"\",INT(作業シート!F45/10+0.5)*10)","v":0},{"$f":"IF(ISERROR(作業シート!G45),\"\",INT(作業シート!G45/10+0.5)*10)","v":0},{"$f":"IF(ISERROR(作業シート!H45),\"\",INT(作業シート!H45/10+0.5)*10)","v":0},{"$f":"IF(ISERROR(作業シート!I45),\"\",INT(作業シート!I45/10+0.5)*10)","v":0},{"$f":"IF(ISERROR(作業シート!J45),\"\",INT(作業シート!J45/10+0.5)*10)","v":0},{"$f":"IF(ISERROR(作業シート!K45),\"\",INT(作業シート!K45/10+0.5)*10)","v":0}]
[null,null,"低 - 3",{"$f":"IF(ISERROR(作業シート!C46),\"\",INT(作業シート!C46/10+0.5)*10)","v":0},{"$f":"IF(ISERROR(作業シート!D46),\"\",INT(作業シート!D46/10+0.5)*10)","v":0},{"$f":"IF(ISERROR(作業シート!E46),\"\",INT(作業シート!E46/10+0.5)*10)","v":0},{"$f":"IF(ISERROR(作業シート!F46),\"\",INT(作業シート!F46/10+0.5)*10)","v":0},{"$f":"IF(ISERROR(作業シート!G46),\"\",INT(作業シート!G46/10+0.5)*10)","v":0},{"$f":"IF(ISERROR(作業シート!H46),\"\",INT(作業シート!H46/10+0.5)*10)","v":0},{"$f":"IF(ISERROR(作業シート!I46),\"\",INT(作業シート!I46/10+0.5)*10)","v":0},{"$f":"IF(ISERROR(作業シート!J46),\"\",INT(作業シート!J46/10+0.5)*10)","v":0},{"$f":"IF(ISERROR(作業シート!K46),\"\",INT(作業シート!K46/10+0.5)*10)","v":0}]
[null,null,"中 - 3",{"$f":"IF(ISERROR(作業シート!C47),\"\",INT(作業シート!C47/10+0.5)*10)","v":0},{"$f":"IF(ISERROR(作業シート!D47),\"\",INT(作業シート!D47/10+0.5)*10)","v":0},{"$f":"IF(ISERROR(作業シート!E47),\"\",INT(作業シート!E47/10+0.5)*10)","v":0},{"$f":"IF(ISERROR(作業シート!F47),\"\",INT(作業シート!F47/10+0.5)*10)","v":0},{"$f":"IF(ISERROR(作業シート!G47),\"\",INT(作業シート!G47/10+0.5)*10)","v":0},{"$f":"IF(ISERROR(作業シート!H47),\"\",INT(作業シート!H47/10+0.5)*10)","v":0},{"$f":"IF(ISERROR(作業シート!I47),\"\",INT(作業シート!I47/10+0.5)*10)","v":0},{"$f":"IF(ISERROR(作業シート!J47),\"\",INT(作業シート!J47/10+0.5)*10)","v":0},{"$f":"IF(ISERROR(作業シート!K47),\"\",INT(作業シート!K47/10+0.5)*10)","v":0}]
[]
[null,"噴霧ポンプ吐出量(L/分)",null,{"$f":"IF(ISERROR(作業シート!C48),\"\",作業シート!C48)","v":0},{"$f":"IF(ISERROR(作業シート!D48),\"\",作業シート!D48)","v":0},{"$f":"IF(ISERROR(作業シート!E48),\"\",作業シート!E48)","v":0},{"$f":"IF(ISERROR(作業シート!F48),\"\",作業シート!F48)","v":0},{"$f":"IF(ISERROR(作業シート!G48),\"\",作業シート!G48)","v":0},{"$f":"IF(ISERROR(作業シート!H48),\"\",作業シート!H48)","v":0},{"$f":"IF(ISERROR(作業シート!I48),\"\",作業シート!I48)","v":0},{"$f":"IF(ISERROR(作業シート!J48),\"\",作業シート!J48)","v":0},{"$f":"IF(ISERROR(作業シート!K48),\"\",作業シート!K48)","v":0}]
[null,"　　 　使用時風量　 (H)",null,{"$f":"IF(ISERROR(作業シート!C49),\"\",作業シート!C49)","v":0},{"$f":"IF(ISERROR(作業シート!D49),\"\",作業シート!D49)","v":0},{"$f":"IF(ISERROR(作業シート!E49),\"\",作業シート!E49)","v":0},{"$f":"IF(ISERROR(作業シート!F49),\"\",作業シート!F49)","v":0},{"$f":"IF(ISERROR(作業シート!G49),\"\",作業シート!G49)","v":0},{"$f":"IF(ISERROR(作業シート!H49),\"\",作業シート!H49)","v":0},{"$f":"IF(ISERROR(作業シート!I49),\"\",作業シート!I49)","v":0},{"$f":"IF(ISERROR(作業シート!J49),\"\",作業シート!J49)","v":0},{"$f":"IF(ISERROR(作業シート!K49),\"\",作業シート!K49)","v":0}]
[null,null," (㎥/分)    (L)",{"$f":"IF(ISERROR(作業シート!C50),\"\",作業シート!C50)","v":0},{"$f":"IF(ISERROR(作業シート!D50),\"\",作業シート!D50)","v":0},{"$f":"IF(ISERROR(作業シート!E50),\"\",作業シート!E50)","v":0},{"$f":"IF(ISERROR(作業シート!F50),\"\",作業シート!F50)","v":0},{"$f":"IF(ISERROR(作業シート!G50),\"\",作業シート!G50)","v":0},{"$f":"IF(ISERROR(作業シート!H50),\"\",作業シート!H50)","v":0},{"$f":"IF(ISERROR(作業シート!I50),\"\",作業シート!I50)","v":0},{"$f":"IF(ISERROR(作業シート!J50),\"\",作業シート!J50)","v":0},{"$f":"IF(ISERROR(作業シート!K50),\"\",作業シート!K50)","v":0}]
[null,"散布時間","中-1（分）",{"$f":"IF(AND(D45>0,$C$55=\"低-1（分）\"),$D$40/1000/作業シート!C6*60,IF(AND(D46>0,$C$55=\"中-1（分）\"),$D$40/1000/作業シート!C7*60,IF(AND(D47>0,$C$55=\"低-2（分）\"),$D$40/1000/作業シート!C8*60,IF(AND(D48>0,$C$55=\"中-2（分）\"),$D$40/1000/作業シート!C9*60,IF(AND(D49>0,$C$55=\"低-3（分）\"),$D$40/1000/作業シート!C10*60,IF(AND(D50>0,$C$55=\"中-3（分）\"),$D$40/1000/作業シート!C11*60,0))))))","v":{"v":0,"d":"0.0"}},{"$f":"IF(AND(E45>0,$C$55=\"低-1（分）\"),$D$40/1000/作業シート!D6*60,IF(AND(E46>0,$C$55=\"中-1（分）\"),$D$40/1000/作業シート!D7*60,IF(AND(E47>0,$C$55=\"低-2（分）\"),$D$40/1000/作業シート!D8*60,IF(AND(E48>0,$C$55=\"中-2（分）\"),$D$40/1000/作業シート!D9*60,IF(AND(E49>0,$C$55=\"低-3（分）\"),$D$40/1000/作業シート!D10*60,IF(AND(E50>0,$C$55=\"中-3（分）\"),$D$40/1000/作業シート!D11*60,0))))))","v":{"v":0,"d":"0.0"}},{"$f":"IF(AND(F45>0,$C$55=\"低-1（分）\"),$D$40/1000/作業シート!E6*60,IF(AND(F46>0,$C$55=\"中-1（分）\"),$D$40/1000/作業シート!E7*60,IF(AND(F47>0,$C$55=\"低-2（分）\"),$D$40/1000/作業シート!E8*60,IF(AND(F48>0,$C$55=\"中-2（分）\"),$D$40/1000/作業シート!E9*60,IF(AND(F49>0,$C$55=\"低-3（分）\"),$D$40/1000/作業シート!E10*60,IF(AND(F50>0,$C$55=\"中-3（分）\"),$D$40/1000/作業シート!E11*60,0))))))","v":{"v":0,"d":"0.0"}},{"$f":"IF(AND(G45>0,$C$55=\"低-1（分）\"),$D$40/1000/作業シート!F6*60,IF(AND(G46>0,$C$55=\"中-1（分）\"),$D$40/1000/作業シート!F7*60,IF(AND(G47>0,$C$55=\"低-2（分）\"),$D$40/1000/作業シート!F8*60,IF(AND(G48>0,$C$55=\"中-2（分）\"),$D$40/1000/作業シート!F9*60,IF(AND(G49>0,$C$55=\"低-3（分）\"),$D$40/1000/作業シート!F10*60,IF(AND(G50>0,$C$55=\"中-3（分）\"),$D$40/1000/作業シート!F11*60,0))))))","v":{"v":0,"d":"0.0"}},{"$f":"IF(AND(H45>0,$C$55=\"低-1（分）\"),$D$40/1000/作業シート!G6*60,IF(AND(H46>0,$C$55=\"中-1（分）\"),$D$40/1000/作業シート!G7*60,IF(AND(H47>0,$C$55=\"低-2（分）\"),$D$40/1000/作業シート!G8*60,IF(AND(H48>0,$C$55=\"中-2（分）\"),$D$40/1000/作業シート!G9*60,IF(AND(H49>0,$C$55=\"低-3（分）\"),$D$40/1000/作業シート!G10*60,IF(AND(H50>0,$C$55=\"中-3（分）\"),$D$40/1000/作業シート!G11*60,0))))))","v":{"v":0,"d":"0.0"}},{"$f":"IF(AND(I45>0,$C$55=\"低-1（分）\"),$D$40/1000/作業シート!H6*60,IF(AND(I46>0,$C$55=\"中-1（分）\"),$D$40/1000/作業シート!H7*60,IF(AND(I47>0,$C$55=\"低-2（分）\"),$D$40/1000/作業シート!H8*60,IF(AND(I48>0,$C$55=\"中-2（分）\"),$D$40/1000/作業シート!H9*60,IF(AND(I49>0,$C$55=\"低-3（分）\"),$D$40/1000/作業シート!H10*60,IF(AND(I50>0,$C$55=\"中-3（分）\"),$D$40/1000/作業シート!H11*60,0))))))","v":{"v":0,"d":"0.0"}},{"$f":"IF(AND(J45>0,$C$55=\"低-1（分）\"),$D$40/1000/作業シート!I6*60,IF(AND(J46>0,$C$55=\"中-1（分）\"),$D$40/1000/作業シート!I7*60,IF(AND(J47>0,$C$55=\"低-2（分）\"),$D$40/1000/作業シート!I8*60,IF(AND(J48>0,$C$55=\"中-2（分）\"),$D$40/1000/作業シート!I9*60,IF(AND(J49>0,$C$55=\"低-3（分）\"),$D$40/1000/作業シート!I10*60,IF(AND(J50>0,$C$55=\"中-3（分）\"),$D$40/1000/作業シート!I11*60,0))))))","v":{"v":0,"d":"0.0"}},{"$f":"IF(AND(K45>0,$C$55=\"低-1（分）\"),$D$40/1000/作業シート!J6*60,IF(AND(K46>0,$C$55=\"中-1（分）\"),$D$40/1000/作業シート!J7*60,IF(AND(K47>0,$C$55=\"低-2（分）\"),$D$40/1000/作業シート!J8*60,IF(AND(K48>0,$C$55=\"中-2（分）\"),$D$40/1000/作業シート!J9*60,IF(AND(K49>0,$C$55=\"低-3（分）\"),$D$40/1000/作業シート!J10*60,IF(AND(K50>0,$C$55=\"中-3（分）\"),$D$40/1000/作業シート!J11*60,0))))))","v":{"v":0,"d":"0.0"}},{"$f":"IF(AND(L45>0,$C$55=\"低-1（分）\"),$D$40/1000/作業シート!K6*60,IF(AND(L46>0,$C$55=\"中-1（分）\"),$D$40/1000/作業シート!K7*60,IF(AND(L47>0,$C$55=\"低-2（分）\"),$D$40/1000/作業シート!K8*60,IF(AND(L48>0,$C$55=\"中-2（分）\"),$D$40/1000/作業シート!K9*60,IF(AND(L49>0,$C$55=\"低-3（分）\"),$D$40/1000/作業シート!K10*60,IF(AND(L50>0,$C$55=\"中-3（分）\"),$D$40/1000/作業シート!K11*60,0))))))","v":{"v":0,"d":"0.0"}}]
[]
[]
[null,"噴霧ポンプ圧力の標準値と単位は、",{"$nulls":4},"※防除効果の向上と安全作業のために、できるだけ遅い車速段の選択を強くお勧め致します。"]
[null,"1.5MPa＝15bar≒15kgf/cm2です。",{"$nulls":4},"※入力したノズル個数と吐出量合計(L/分)が能力を超えていないか確認してください。"]
[null,"　散布量表の数値が斜体文字の場合、そのエンジン回転数では噴霧ポンプの吐出量が噴霧ノズルの吐出量よりも小さく、設定した噴霧圧力まで上がらない場合があります。",{"$nulls":4},"※噴霧ポンプ吐出量は、薬液タンクへ戻る余水分の約15%を引いて表示しています。"]
[{"$nulls":6},"※計算上の判断により、取扱説明書と若干異なる場合があります。"]
[{"$nulls":6},"※万一、この散布量計算を利用して生じたいかなる損失にも弊社は一切の責任を負いません。"]

{"sheet":"作業シート","index":1,"n_rows":50,"n_cols":24,"rows_kept":50,"hidden":true,"merged":[[2,2,2,10],[2,15,2,23],[4,0,4,1],[4,13,4,14],[5,0,10,0],[5,13,8,13],[9,13,10,13],[12,0,12,10],[13,0,13,4],[16,0,16,1],[17,0,17,1],[18,0,18,1],[19,13,19,14],[19,15,19,18],[19,20,19,21],[21,0,21,1],[21,13,21,14],[22,0,27,0],[22,13,25,13],[26,13,27,13],[28,0,28,1],[31,0,31,9],[32,0,32,4],[35,0,35,1],[36,0,36,1],[37,0,37,1],[38,13,38,14],[38,15,38,18],[38,20,38,21],[40,0,40,1],[40,13,40,14],[41,0,46,0],[41,13,44,13],[45,13,46,13],[47,0,47,1]]}
[]
[]
["製 品 名","3S-",{"$f":"■散布量計算シート!D7","v":0},{"$nulls":10},"製品名","3S-",{"$f":"■散布量計算シート!D7","v":0}]
[]
["エンジン回転数(rpm)",null,1600,1800,2000,2200,2400,2500,2600,2700,2800,null,null,"エンジン回転数(rpm)",null,1600,1800,2000,2200,2400,2500,2600,2700,2800]
["車速","低-1",{"$f":"G6*0.64","v":{"v":0,"d":"0.0"}},{"$f":"G6*0.72","v":{"v":0,"d":"0.0"}},{"$f":"G6*0.8","v":{"v":0,"d":"0.0"}},{"$f":"G6*0.88","v":{"v":0,"d":"0.0"}},{"$f":"IF(ISERROR(VLOOKUP($C$3,車速表!$A:$AE,2,FALSE))=TRUE,0,VLOOKUP($C$3,車速表!$A:$AE,2,FALSE))","v":{"v":0,"d":"0.0"}},{"$f":"IF(ISERROR(VLOOKUP($C$3,車速表!$A:$AE,3,FALSE))=TRUE,0,VLOOKUP($C$3,車速表!$A:$AE,3,FALSE))","v":{"v":0,"d":"0.0"}},{"$f":"IF(ISERROR(VLOOKUP($C$3,車速表!$A:$AE,4,FALSE))=TRUE,0,VLOOKUP($C$3,車速表!$A:$AE,4,FALSE))","v":{"v":0,"d":"0.0"}},{"$f":"IF(ISERROR(VLOOKUP($C$3,車速表!$A:$AE,5,FALSE))=TRUE,0,VLOOKUP($C$3,車速表!$A:$AE,5,FALSE))","v":{"v":0,"d":"0.0"}},{"$f":"IF(ISERROR(VLOOKUP($C$3,車速表!$A:$AE,6,FALSE))=TRUE,0,VLOOKUP($C$3,車速表!$A:$AE,6,FALSE))","v":{"v":0,"d":"0.0"}},null,null,"車速\n(km/h)","低-1",{"$f":"T6*0.64","v":{"v":0,"d":"0.0"}},{"$f":"T6*0.72","v":{"v":0,"d":"0.0"}},{"$f":"T6*0.8","v":{"v":0,"d":"0.0"}},{"$f":"T6*0.88","v":{"v":0,"d":"0.0"}},{"$f":"IF(ISERROR(VLOOKUP($C$3,車速表!$A:$AE,2,FALSE))=TRUE,0,VLOOKUP($C$3,車速表!$A:$AE,2,FALSE))","v":{"v":0,"d":"0.0"}},{"$f":"IF(ISERROR(VLOOKUP($C$3,車速表!$A:$AE,3,FALSE))=TRUE,0,VLOOKUP($C$3,車速表!$A:$AE,3,FALSE))","v":{"v":0,"d":"0.0"}},{"$f":"IF(ISERROR(VLOOKUP($C$3,車速表!$A:$AE,4,FALSE))=TRUE,0,VLOOKUP($C$3,車速表!$A:$AE,4,FALSE))","v":{"v":0,"d":"0.0"}},{"$f":"IF(ISERROR(VLOOKUP($C$3,車速表!$A:$AE,5,FALSE))=TRUE,0,VLOOKUP($C$3,車速表!$A:$AE,5,FALSE))","v":{"v":0,"d":"0.0"}},{"$f":"IF(ISERROR(VLOOKUP($C$3,車速表!$A:$AE,6,FALSE))=TRUE,0,VLOOKUP($C$3,車速表!$A:$AE,6,FALSE))","v":{"v":0,"d":"0.0"}}]
[null,"中-1",{"v":0,"d":"0.0"},{"v":0,"d":"0.0"},{"v":0,"d":"0.0"},{"v":0,"d":"0.0"},{"$f":"IF(ISERROR(VLOOKUP($C$3,車速表!$A:$AE,7,FALSE))=TRUE,0,VLOOKUP($C$3,車速表!$A:$AE,7,FALSE))","v":{"v":0,"d":"0.0"}},{"$f":"IF(ISERROR(VLOOKUP($C$3,車速表!$A:$AE,8,FALSE))=TRUE,0,VLOOKUP($C$3,車速表!$A:$AE,8,FALSE))","v":{"v":0,"d":"0.0"}},{"$f":"IF(ISERROR(VLOOKUP($C$3,車速表!$A:$AE,9,FALSE))=TRUE,0,VLOOKUP($C$3,車速表!$A:$AE,9,FALSE))","v":{"v":0,"d":"0.0"}},{"$f":"IF(ISERROR(VLOOKUP($C$3,車速表!$A:$AE,10,FALSE))=TRUE,0,VLOOKUP($C$3,車速表!$A:$AE,10,FALSE))","v":{"v":0,"d":"0.0"}},{"$f":"IF(ISERROR(VLOOKUP($C$3,車速表!$A:$AE,11,FALSE))=TRUE,0,VLOOKUP($C$3,車速表!$A:$AE,11,FALSE))","v":{"v":0,"d":"0.0"}},{"$nulls":3},"中-1",{"v":0,"d":"0.0"},{"v":0,"d":"0.0"},{"v":0,"d":"0.0"},{"v":0,"d":"0.0"},{"$f":"IF(ISERROR(VLOOKUP($C$3,車速表!$A:$AE,7,FALSE))=TRUE,0,VLOOKUP($C$3,車速表!$A:$AE,7,FALSE))","v":{"v":0,"d":"0.0"}},{"$f":"IF(ISERROR(VLOOKUP($C$3,車速表!$A:$AE,8,FALSE))=TRUE,0,VLOOKUP($C$3,車速表!$A:$AE,8,FALSE))","v":{"v":0,"d":"0.0"}},{"$f":"IF(ISERROR(VLOOKUP($C$3,車速表!$A:$AE,9,FALSE))=TRUE,0,VLOOKUP($C$3,車速表!$A:$AE,9,FALSE))","v":{"v":0,"d":"0.0"}},{"$f":"IF(ISERROR(VLOOKUP($C$3,車速表!$A:$AE,10,FALSE))=TRUE,0,VLOOKUP($C$3,車速表!$A:$AE,10,FALSE))","v":{"v":0,"d":"0.0"}},{"$f":"IF(ISERROR(VLOOKUP($C$3,車速表!$A:$AE,11,FALSE))=TRUE,0,VLOOKUP($C$3,車速表!$A:$AE,11,FALSE))","v":{"v":0,"d":"0.0"}}]
[null,"低-2",{"v":0,"d":"0.0"},{"v":0,"d":"0.0"},{"v":0,"d":"0.0"},{"v":0,"d":"0.0"},{"$f":"IF(ISERROR(VLOOKUP($C$3,車速表!$A:$AE,12,FALSE))=TRUE,0,VLOOKUP($C$3,車速表!$A:$AE,12,FALSE))","v":{"v":0,"d":"0.0"}},{"$f":"IF(ISERROR(VLOOKUP($C$3,車速表!$A:$AE,13,FALSE))=TRUE,0,VLOOKUP($C$3,車速表!$A:$AE,13,FALSE))","v":{"v":0,"d":"0.0"}},{"$f":"IF(ISERROR(VLOOKUP($C$3,車速表!$A:$AE,14,FALSE))=TRUE,0,VLOOKUP($C$3,車速表!$A:$AE,14,FALSE))","v":{"v":0,"d":"0.0"}},{"$f":"IF(ISERROR(VLOOKUP($C$3,車速表!$A:$AE,15,FALSE))=TRUE,0,VLOOKUP($C$3,車速表!$A:$AE,15,FALSE))","v":{"v":0,"d":"0.0"}},{"$f":"IF(ISERROR(VLOOKUP($C$3,車速表!$A:$AE,16,FALSE))=TRUE,0,VLOOKUP($C$3,車速表!$A:$AE,16,FALSE))","v":{"v":0,"d":"0.0"}},{"$nulls":3},"低-2",{"v":0,"d":"0.0"},{"v":0,"d":"0.0"},{"v":0,"d":"0.0"},{"v":0,"d":"0.0"},{"$f":"IF(ISERROR(VLOOKUP($C$3,車速表!$A:$AE,12,FALSE))=TRUE,0,VLOOKUP($C$3,車速表!$A:$AE,12,FALSE))","v":{"v":0,"d":"0.0"}},{"$f":"IF(ISERROR(VLOOKUP($C$3,車速表!$A:$AE,13,FALSE))=TRUE,0,VLOOKUP($C$3,車速表!$A:$AE,13,FALSE))","v":{"v":0,"d":"0.0"}},{"$f":"IF(ISERROR(VLOOKUP($C$3,車速表!$A:$AE,14,FALSE))=TRUE,0,VLOOKUP($C$3,車速表!$A:$AE,14,FALSE))","v":{"v":0,"d":"0.0"}},{"$f":"IF(ISERROR(VLOOKUP($C$3,車速表!$A:$AE,15,FALSE))=TRUE,0,VLOOKUP($C$3,車速表!$A:$AE,15,FALSE))","v":{"v":0,"d":"0.0"}},{"$f":"IF(ISERROR(VLOOKUP($C$3,車速表!$A:$AE,16,FALSE))=TRUE,0,VLOOKUP($C$3,車速表!$A:$AE,16,FALSE))","v":{"v":0,"d":"0.0"}}]
[null,"中-2",{"v":0,"d":"0.0"},{"v":0,"d":"0.0"},{"v":0,"d":"0.0"},{"v":0,"d":"0.0"},{"$f":"IF(ISERROR(VLOOKUP($C$3,車速表!$A:$AE,17,FALSE))=TRUE,0,VLOOKUP($C$3,車速表!$A:$AE,17,FALSE))","v":{"v":0,"d":"0.0"}},{"$f":"IF(ISERROR(VLOOKUP($C$3,車速表!$A:$AE,18,FALSE))=TRUE,0,VLOOKUP($C$3,車速表!$A:$AE,18,FALSE))","v":{"v":0,"d":"0.0"}},{"$f":"IF(ISERROR(VLOOKUP($C$3,車速表!$A:$AE,19,FALSE))=TRUE,0,VLOOKUP($C$3,車速表!$A:$AE,19,FALSE))","v":{"v":0,"d":"0.0"}},{"$f":"IF(ISERROR(VLOOKUP($C$3,車速表!$A:$AE,20,FALSE))=TRUE,0,VLOOKUP($C$3,車速表!$A:$AE,20,FALSE))","v":{"v":0,"d":"0.0"}},{"$f":"IF(ISERROR(VLOOKUP($C$3,車速表!$A:$AE,21,FALSE))=TRUE,0,VLOOKUP($C$3,車速表!$A:$AE,21,FALSE))","v":{"v":0,"d":"0.0"}},{"$nulls":3},"中-2",{"v":0,"d":"0.0"},{"v":0,"d":"0.0"},{"v":0,"d":"0.0"},{"v":0,"d":"0.0"},{"$f":"IF(ISERROR(VLOOKUP($C$3,車速表!$A:$AE,17,FALSE))=TRUE,0,VLOOKUP($C$3,車速表!$A:$AE,17,FALSE))","v":{"v":0,"d":"0.0"}},{"$f":"IF(ISERROR(VLOOKUP($C$3,車速表!$A:$AE,18,FALSE))=TRUE,0,VLOOKUP($C$3,車速表!$A:$AE,18,FALSE))","v":{"v":0,"d":"0.0"}},{"$f":"IF(ISERROR(VLOOKUP($C$3,車速表!$A:$AE,19,FALSE))=TRUE,0,VLOOKUP($C$3,車速表!$A:$AE,19,FALSE))","v":{"v":0,"d":"0.0"}},{"$f":"IF(ISERROR(VLOOKUP($C$3,車速表!$A:$AE,20,FALSE))=TRUE,0,VLOOKUP($C$3,車速表!$A:$AE,20,FALSE))","v":{"v":0,"d":"0.0"}},{"$f":"IF(ISERROR(VLOOKUP($C$3,車速表!$A:$AE,21,FALSE))=TRUE,0,VLOOKUP($C$3,車速表!$A:$AE,21,FALSE))","v":{"v":0,"d":"0.0"}}]
[null,"低-3",{"v":0,"d":"0.0"},{"v":0,"d":"0.0"},{"v":0,"d":"0.0"},{"v":0,"d":"0.0"},{"$f":"IF(ISERROR(VLOOKUP($C$3,車速表!$A:$AE,22,FALSE))=TRUE,0,VLOOKUP($C$3,車速表!$A:$AE,22,FALSE))","v":{"v":0,"d":"0.0"}},{"$f":"IF(ISERROR(VLOOKUP($C$3,車速表!$A:$AE,23,FALSE))=TRUE,0,VLOOKUP($C$3,車速表!$A:$AE,23,FALSE))","v":{"v":0,"d":"0.0"}},{"$f":"IF(ISERROR(VLOOKUP($C$3,車速表!$A:$AE,24,FALSE))=TRUE,0,VLOOKUP($C$3,車速表!$A:$AE,24,FALSE))","v":{"v":0,"d":"0.0"}},{"$f":"IF(ISERROR(VLOOKUP($C$3,車速表!$A:$AE,25,FALSE))=TRUE,0,VLOOKUP($C$3,車速表!$A:$AE,25,FALSE))","v":{"v":0,"d":"0.0"}},{"$f":"IF(ISERROR(VLOOKUP($C$3,車速表!$A:$AE,26,FALSE))=TRUE,0,VLOOKUP($C$3,車速表!$A:$AE,26,FALSE))","v":{"v":0,"d":"0.0"}},null,null,"Travel speed","低-3",{"v":0,"d":"0.0"},{"v":0,"d":"0.0"},{"v":0,"d":"0.0"},{"v":0,"d":"0.0"},{"$f":"IF(ISERROR(VLOOKUP($C$3,車速表!$A:$AE,22,FALSE))=TRUE,0,VLOOKUP($C$3,車速表!$A:$AE,22,FALSE))","v":{"v":0,"d":"0.0"}},{"$f":"IF(ISERROR(VLOOKUP($C$3,車速表!$A:$AE,23,FALSE))=TRUE,0,VLOOKUP($C$3,車速表!$A:$AE,23,FALSE))","v":{"v":0,"d":"0.0"}},{"$f":"IF(ISERROR(VLOOKUP($C$3,車速表!$A:$AE,24,FALSE))=TRUE,0,VLOOKUP($C$3,車速表!$A:$AE,24,FALSE))","v":{"v":0,"d":"0.0"}},{"$f":"IF(ISERROR(VLOOKUP($C$3,車速表!$A:$AE,25,FALSE))=TRUE,0,VLOOKUP($C$3,車速表!$A:$AE,25,FALSE))","v":{"v":0,"d":"0.0"}},{"$f":"IF(ISERROR(VLOOKUP($C$3,車速表!$A:$AE,26,FALSE))=TRUE,0,VLOOKUP($C$3,車速表!$A:$AE,26,FALSE))","v":{"v":0,"d":"0.0"}}]
[null,"中-3",{"v":0,"d":"0.0"},{"v":0,"d":"0.0"},{"v":0,"d":"0.0"},{"v":0,"d":"0.0"},{"$f":"IF(ISERROR(VLOOKUP($C$3,車速表!$A:$AE,27,FALSE))=TRUE,0,VLOOKUP($C$3,車速表!$A:$AE,27,FALSE))","v":{"v":0,"d":"0.0"}},{"$f":"IF(ISERROR(VLOOKUP($C$3,車速表!$A:$AE,28,FALSE))=TRUE,0,VLOOKUP($C$3,車速表!$A:$AE,28,FALSE))","v":{"v":0,"d":"0.0"}},{"$f":"IF(ISERROR(VLOOKUP($C$3,車速表!$A:$AE,29,FALSE))=TRUE,0,VLOOKUP($C$3,車速表!$A:$AE,29,FALSE))","v":{"v":0,"d":"0.0"}},{"$f":"IF(ISERROR(VLOOKUP($C$3,車速表!$A:$AE,30,FALSE))=TRUE,0,VLOOKUP($C$3,車速表!$A:$AE,30,FALSE))","v":{"v":0,"d":"0.0"}},{"$f":"IF(ISERROR(VLOOKUP($C$3,車速表!$A:$AE,31,FALSE))=TRUE,0,VLOOKUP($C$3,車速表!$A:$AE,31,FALSE))","v":{"v":0,"d":"0.0"}},{"$nulls":3},"中-3",{"v":0,"d":"0.0"},{"v":0,"d":"0.0"},{"v":0,"d":"0.0"},{"v":0,"d":"0.0"},{"$f":"IF(ISERROR(VLOOKUP($C$3,車速表!$A:$AE,27,FALSE))=TRUE,0,VLOOKUP($C$3,車速表!$A:$AE,27,FALSE))","v":{"v":0,"d":"0.0"}},{"$f":"IF(ISERROR(VLOOKUP($C$3,車速表!$A:$AE,28,FALSE))=TRUE,0,VLOOKUP($C$3,車速表!$A:$AE,28,FALSE))","v":{"v":0,"d":"0.0"}},{"$f":"IF(ISERROR(VLOOKUP($C$3,車速表!$A:$AE,29,FALSE))=TRUE,0,VLOOKUP($C$3,車速表!$A:$AE,29,FALSE))","v":{"v":0,"d":"0.0"}},{"$f":"IF(ISERROR(VLOOKUP($C$3,車速表!$A:$AE,30,FALSE))=TRUE,0,VLOOKUP($C$3,車速表!$A:$AE,30,FALSE))","v":{"v":0,"d":"0.0"}},{"$f":"IF(ISERROR(VLOOKUP($C$3,車速表!$A:$AE,31,FALSE))=TRUE,0,VLOOKUP($C$3,車速表!$A:$AE,31,FALSE))","v":{"v":0,"d":"0.0"}}]
[]
[]
["作業条件①"]
[]
["名　称",null,"個数","吐出量1","吐出量1.5","吐出量2","吐出量計",null,"最大吐出量",null,"ノズル個数"]
[{"$f":"■散布量計算シート!H15","v":0},{"$error":"#REF!"},{"$f":"■散布量計算シート!I15","v":0},{"$f":"IF(ISERROR(VLOOKUP($A17,ノズル吐出量,2,FALSE))=TRUE,0,VLOOKUP($A17,ノズル吐出量,2,FALSE))","v":0},{"$f":"IF(ISERROR(VLOOKUP($A17,ノズル吐出量,3,FALSE))=TRUE,0,VLOOKUP($A17,ノズル吐出量,3,FALSE))","v":{"v":0,"d":"0.0"}},{"$f":"IF(ISERROR(VLOOKUP($A17,ノズル吐出量,4,FALSE))=TRUE,0,VLOOKUP($A17,ノズル吐出量,4,FALSE))","v":0},{"$f":"IF($B$20=1,$C17*D17,IF($B$20=1.5,$C17*E17,IF(B$20=2,$C17*F17,0)))","v":{"v":0,"d":"0.0"}},null,{"$f":"IF(C3<>0,VLOOKUP(C3,車速表!A:AG,33,FALSE),0)","v":0},"L/分",{"$f":"IF(C3<>0,VLOOKUP(C3,車速表!A:AH,34,FALSE),0)","v":0}]
[{"$f":"■散布量計算シート!H16","v":0},null,{"$f":"■散布量計算シート!I16","v":0},{"$f":"IF(ISERROR(VLOOKUP($A18,ノズル吐出量,2,FALSE))=TRUE,0,VLOOKUP($A18,ノズル吐出量,2,FALSE))","v":0},{"$f":"IF(ISERROR(VLOOKUP($A18,ノズル吐出量,3,FALSE))=TRUE,0,VLOOKUP($A18,ノズル吐出量,3,FALSE))","v":{"v":0,"d":"0.0"}},{"$f":"IF(ISERROR(VLOOKUP($A18,ノズル吐出量,4,FALSE))=TRUE,0,VLOOKUP($A18,ノズル吐出量,4,FALSE))","v":0},{"$f":"IF($B$20=1,$C18*D18,IF($B$20=1.5,$C18*E18,$C18*F18))","v":{"v":0,"d":"0.0"}},{"$nulls":3},"風量(H/L)"]
[{"$f":"■散布量計算シート!H17","v":0},null,{"$f":"■散布量計算シート!I17","v":0},{"$f":"IF(ISERROR(VLOOKUP($A19,ノズル吐出量,2,FALSE))=TRUE,0,VLOOKUP($A19,ノズル吐出量,2,FALSE))","v":0},{"$f":"IF(ISERROR(VLOOKUP($A19,ノズル吐出量,3,FALSE))=TRUE,0,VLOOKUP($A19,ノズル吐出量,3,FALSE))","v":{"v":0,"d":"0.0"}},{"$f":"IF(ISERROR(VLOOKUP($A19,ノズル吐出量,4,FALSE))=TRUE,0,VLOOKUP($A19,ノズル吐出量,4,FALSE))","v":0},{"$f":"IF($B$20=1,$C19*D19,IF($B$20=1.5,$C19*E19,$C19*F19))","v":{"v":0,"d":"0.0"}},null,"走行距離",null,{"$f":"IF(C3<>0,VLOOKUP(C3,車速表!A:AJ,35,FALSE),0)","v":0}]
["噴霧ポンプ圧力",{"$f":"■散布量計算シート!D18","v":0},{"$f":"SUM(C17:C19)","v":0},null,null,"計",{"$f":"SUM(G17:G19)","v":{"v":0,"d":"0.0"}},"(L/分)",{"$f":"■散布量計算シート!$D$17","v":""},"m",{"$f":"IF(C3<>0,VLOOKUP(C3,車速表!A:AJ,36,FALSE),0)","v":0},null,null,"■計算条件-1",null,{"$f":"+■散布量計算シート!D14","v":0},{"$nulls":4},"散布幅（列間隔）",null,{"$f":"+■散布量計算シート!D16","v":0}]
[]
["エンジン回転数(rpm)",null,1600,1800,2000,2200,2400,2500,2600,2700,2800,null,null,"エンジン回転数(rpm)",null,1600,1800,2000,2200,2400,2500,2600,2700,2800]
["散布量","低-1",{"$f":"IF(AND(C6>0,$I$20>0,$G$20>0),$G$20*P23,0)","v":0},0,0,0,0,0,0,0,0,null,null,"散 布\n時 間\n（分/10a）","低-1",{"$f":"IF(AND(C6>0,$I$20>0,$G$20>0),$I$20*0.06/C6,0)","v":{"v":0,"d":"0.0"}},{"v":0,"d":"0.0"},{"v":0,"d":"0.0"},{"v":0,"d":"0.0"},{"v":0,"d":"0.0"},{"v":0,"d":"0.0"},{"v":0,"d":"0.0"},{"v":0,"d":"0.0"},{"v":0,"d":"0.0"}]
[null,"中-1",{"$f":"IF(AND(C7>0,$I$20>0,$G$20>0),$G$20*P24,0)","v":0},0,0,0,0,0,0,0,{"$f":"IF(AND(K7>0,$I$20>0,$G$20>0),$G$20*X24,0)","v":0},{"$nulls":3},"中-1",{"$f":"IF(AND(C7>0,$I$20>0,$G$20>0),$I$20*0.06/C7,0)","v":{"v":0,"d":"0.0"}},{"v":0,"d":"0.0"},{"v":0,"d":"0.0"},{"v":0,"d":"0.0"},{"v":0,"d":"0.0"},{"v":0,"d":"0.0"},{"v":0,"d":"0.0"},{"v":0,"d":"0.0"},{"$f":"IF(AND(K7>0,$I$20>0,$G$20>0),$I$20*0.06/K7,0)","v":{"v":0,"d":"0.0"}}]
[null,"低-2",0,0,0,0,0,0,0,0,0,{"$nulls":3},"低-2",{"v":0,"d":"0.0"},{"v":0,"d":"0.0"},{"v":0,"d":"0.0"},{"v":0,"d":"0.0"},{"v":0,"d":"0.0"},{"v":0,"d":"0.0"},{"v":0,"d":"0.0"},{"v":0,"d":"0.0"},{"v":0,"d":"0.0"}]
[null,"中-2",0,0,0,0,0,0,0,0,0,{"$nulls":3},"中-2",{"v":0,"d":"0.0"},{"v":0,"d":"0.0"},{"v":0,"d":"0.0"},{"v":0,"d":"0.0"},{"v":0,"d":"0.0"},{"v":0,"d":"0.0"},{"v":0,"d":"0.0"},{"v":0,"d":"0.0"},{"v":0,"d":"0.0"}]
[null,"低-3",0,0,0,0,0,0,0,0,0,null,null,"Travel time\n(min/10a)","低-3",{"v":0,"d":"0.0"},{"v":0,"d":"0.0"},{"v":0,"d":"0.0"},{"v":0,"d":"0.0"},{"v":0,"d":"0.0"},{"v":0,"d":"0.0"},{"v":0,"d":"0.0"},{"v":0,"d":"0.0"},{"v":0,"d":"0.0"}]
[null,"中-3",0,0,0,0,0,0,0,0,0,{"$nulls":3},"中-3",{"v":0,"d":"0.0"},{"v":0,"d":"0.0"},{"v":0,"d":"0.0"},{"v":0,"d":"0.0"},{"v":0,"d":"0.0"},{"v":0,"d":"0.0"},{"v":0,"d":"0.0"},{"v":0,"d":"0.0"},{"v":0,"d":"0.0"}]
["噴霧ポンプ吐出量(L/m)",null,{"$f":"D29*1600/1800","v":0},{"$f":"E29*1800/2000","v":0},{"$f":"F29*2000/2200","v":0},{"$f":"G29*2200/2400","v":0},{"$f":"IF(H23=0,IF(G23>0,$I$17*0.85,0),H29*2400/2500)","v":0},{"$f":"IF(I23=0,IF(H23>0,$I$17*0.85,0),I29*2500/2600)","v":0},{"$f":"IF(J23=0,IF(I23>0,$I$17*0.85,0),J29*2600/2700)","v":0},{"$f":"IF(K23=0,IF(J23>0,$I$17*0.85,0),K29*2700/2800)","v":0},{"$f":"IF(K23>0,$I$17*0.85,0)","v":0}]
[null,"風量　Ｈ側",{"$f":"D30*1600/1800","v":0},{"$f":"E30*1800/2000","v":0},{"$f":"F30*2000/2200","v":0},{"$f":"G30*2200/2400","v":0},{"$f":"IF(H23=0,IF(G23>0,K19,0),H30*2400/2500)","v":0},{"$f":"IF(I23=0,IF(H23>0,K19,0),I30*2500/2600)","v":0},{"$f":"IF(J23=0,IF(I23>0,K19,0),J30*2600/2700)","v":0},{"$f":"IF(K23=0,IF(J23>0,K19,0),K30*2700/2800)","v":0},{"$f":"IF(K23>0,K19,0)","v":0}]
[null,"風量　Ｌ側",{"$f":"D31*1600/1800","v":0},{"$f":"E31*1800/2000","v":0},{"$f":"F31*2000/2200","v":0},{"$f":"G31*2200/2400","v":0},{"$f":"IF(H23=0,IF(G23>0,K20,0),H31*2400/2500)","v":0},{"$f":"IF(I23=0,IF(H23>0,K20,0),I31*2500/2600)","v":0},{"$f":"IF(J23=0,IF(I23>0,K20,0),J31*2600/2700)","v":0},{"$f":"IF(K23=0,IF(J23>0,K20,0),K31*2700/2800)","v":0},{"$f":"IF(K23>0,K20,0)","v":0}]
[]
["作業条件②"]
[]
["名　称",null,"個数","吐出量1","吐出量1.5","吐出量2","吐出量計",null,"最大吐出量",null,"ノズル個数"]
[{"$f":"■散布量計算シート!H38","v":0},null,{"$f":"■散布量計算シート!I38","v":0},{"$f":"IF(ISERROR(VLOOKUP($A36,ノズル吐出量,2,FALSE))=TRUE,0,VLOOKUP($A36,ノズル吐出量,2,FALSE))","v":0},{"$f":"IF(ISERROR(VLOOKUP($A36,ノズル吐出量,3,FALSE))=TRUE,0,VLOOKUP($A36,ノズル吐出量,3,FALSE))","v":{"v":0,"d":"0.0"}},{"$f":"IF(ISERROR(VLOOKUP($A36,ノズル吐出量,4,FALSE))=TRUE,0,VLOOKUP($A36,ノズル吐出量,4,FALSE))","v":0},{"$f":"IF($B$39=1,$C36*D36,IF($B$39=1.5,$C36*E36,IF(B$39=2,$C36*F36,0)))","v":{"v":0,"d":"0.0"}},null,{"$f":"IF(C3<>0,VLOOKUP(C3,車速表!A:AG,33,FALSE),0)","v":0},"L/分",{"$f":"IF(C3<>0,VLOOKUP(C3,車速表!A:AH,34,FALSE),0)","v":0}]
[{"$f":"■散布量計算シート!H39","v":0},null,{"$f":"■散布量計算シート!I39","v":0},{"$f":"IF(ISERROR(VLOOKUP($A37,ノズル吐出量,2,FALSE))=TRUE,0,VLOOKUP($A37,ノズル吐出量,2,FALSE))","v":0},{"$f":"IF(ISERROR(VLOOKUP($A37,ノズル吐出量,3,FALSE))=TRUE,0,VLOOKUP($A37,ノズル吐出量,3,FALSE))","v":{"v":0,"d":"0.0"}},{"$f":"IF(ISERROR(VLOOKUP($A37,ノズル吐出量,4,FALSE))=TRUE,0,VLOOKUP($A37,ノズル吐出量,4,FALSE))","v":0},{"$f":"IF($B$39=1,$C37*D37,IF($B$39=1.5,$C37*E37,$C37*F37))","v":{"v":0,"d":"0.0"}},{"$nulls":3},"風量(H/L)"]
[{"$f":"■散布量計算シート!H40","v":0},null,{"$f":"■散布量計算シート!I40","v":0},{"$f":"IF(ISERROR(VLOOKUP($A38,ノズル吐出量,2,FALSE))=TRUE,0,VLOOKUP($A38,ノズル吐出量,2,FALSE))","v":0},{"$f":"IF(ISERROR(VLOOKUP($A38,ノズル吐出量,3,FALSE))=TRUE,0,VLOOKUP($A38,ノズル吐出量,3,FALSE))","v":{"v":0,"d":"0.0"}},{"$f":"IF(ISERROR(VLOOKUP($A38,ノズル吐出量,4,FALSE))=TRUE,0,VLOOKUP($A38,ノズル吐出量,4,FALSE))","v":0},{"$f":"IF($B$39=1,$C38*D38,IF($B$39=1.5,$C38*E38,$C38*F38))","v":{"v":0,"d":"0.0"}},null,"走行距離",null,{"$f":"IF(C3<>0,VLOOKUP(C3,車速表!A:AJ,35,FALSE),0)","v":0}]
["噴霧ポンプ圧力",{"$f":"■散布量計算シート!D41","v":{"v":0,"d":"0.0"}},{"$f":"SUM(C36:C38)","v":0},null,null,"計",{"$f":"SUM(G36:G38)","v":{"v":0,"d":"0.0"}},"(L/分)",{"$f":"■散布量計算シート!$D$40","v":""},"m",{"$f":"IF(C3<>0,VLOOKUP(C3,車速表!A:AJ,36,FALSE),0)","v":0},null,null,"■計算条件-2",null,{"$f":"+■散布量計算シート!D37","v":0},{"$nulls":4},"散布幅（列間隔）",null,{"$f":"+■散布量計算シート!D39","v":0}]
[]
["エンジン回転数(rpm)",null,1600,1800,2000,2200,2400,2500,2600,2700,2800,null,null,"エンジン回転数(rpm)",null,1600,1800,2000,2200,2400,2500,2600,2700,2800]
["散布量","低-1",{"$f":"IF(AND(C6>0,$I$39>0,$G$39>0),$G$39*P42,0)","v":0},0,0,0,0,0,0,0,0,null,null,"散 布\n時 間\n（分/10a）","低-1",{"$f":"IF(AND(C6>0,$I$39>0,$G$39>0),$I$39*0.06/C6,0)","v":{"v":0,"d":"0.0"}},{"v":0,"d":"0.0"},{"v":0,"d":"0.0"},{"v":0,"d":"0.0"},{"v":0,"d":"0.0"},{"v":0,"d":"0.0"},{"v":0,"d":"0.0"},{"v":0,"d":"0.0"},{"v":0,"d":"0.0"}]
[null,"中-1",0,0,0,0,0,0,0,0,0,{"$nulls":3},"中-1",{"$f":"IF(AND(C7>0,$I$39>0,$G$39>0),$I$39*0.06/C7,0)","v":{"v":0,"d":"0.0"}},{"v":0,"d":"0.0"},{"v":0,"d":"0.0"},{"v":0,"d":"0.0"},{"v":0,"d":"0.0"},{"v":0,"d":"0.0"},{"v":0,"d":"0.0"},{"v":0,"d":"0.0"},{"$f":"IF(AND(K7>0,$I$39>0,$G$39>0),$I$39*0.06/K7,0)","v":{"v":0,"d":"0.0"}}]
[null,"低-2",0,0,0,0,0,0,0,0,0,{"$nulls":3},"低-2",{"v":0,"d":"0.0"},{"v":0,"d":"0.0"},{"v":0,"d":"0.0"},{"v":0,"d":"0.0"},{"v":0,"d":"0.0"},{"v":0,"d":"0.0"},{"v":0,"d":"0.0"},{"v":0,"d":"0.0"},{"v":0,"d":"0.0"}]
[null,"中-2",0,0,0,0,0,0,0,0,0,{"$nulls":3},"中-2",{"v":0,"d":"0.0"},{"v":0,"d":"0.0"},{"v":0,"d":"0.0"},{"v":0,"d":"0.0"},{"v":0,"d":"0.0"},{"v":0,"d":"0.0"},{"v":0,"d":"0.0"},{"v":0,"d":"0.0"},{"v":0,"d":"0.0"}]
[null,"低-3",0,0,0,0,0,0,0,0,0,null,null,"Travel time\n(min/10a)","低-3",{"v":0,"d":"0.0"},{"v":0,"d":"0.0"},{"v":0,"d":"0.0"},{"v":0,"d":"0.0"},{"v":0,"d":"0.0"},{"v":0,"d":"0.0"},{"v":0,"d":"0.0"},{"v":0,"d":"0.0"},{"v":0,"d":"0.0"}]
[null,"中-3",0,0,0,0,0,0,0,0,0,{"$nulls":3},"中-3",{"v":0,"d":"0.0"},{"v":0,"d":"0.0"},{"v":0,"d":"0.0"},{"v":0,"d":"0.0"},{"v":0,"d":"0.0"},{"v":0,"d":"0.0"},{"v":0,"d":"0.0"},{"v":0,"d":"0.0"},{"v":0,"d":"0.0"}]
["噴霧ポンプ吐出量(L/m)",null,{"$f":"D48*1600/1800","v":0},{"$f":"E48*1800/2000","v":0},{"$f":"F48*2000/2200","v":0},{"$f":"G48*2200/2400","v":0},{"$f":"IF(H42=0,IF(G42>0,$I$36*0.85,0),H48*2400/2500)","v":0},{"$f":"IF(I42=0,IF(H42>0,$I$36*0.85,0),I48*2500/2600)","v":0},{"$f":"IF(J42=0,IF(I42>0,$I$36*0.85,0),J48*2600/2700)","v":0},{"$f":"IF(K42=0,IF(J42>0,$I$36*0.85,0),K48*2700/2800)","v":0},{"$f":"IF(K42>0,$I$36*0.85,0)","v":0}]
[null,"風量　Ｈ側",{"$f":"D49*1600/1800","v":0},{"$f":"E49*1800/2000","v":0},{"$f":"F49*2000/2200","v":0},{"$f":"G49*2200/2400","v":0},{"$f":"IF(H42=0,IF(G42>0,K38,0),H49*2400/2500)","v":0},{"$f":"IF(I42=0,IF(H42>0,K38,0),I49*2500/2600)","v":0},{"$f":"IF(J42=0,IF(I42>0,K38,0),J49*2600/2700)","v":0},{"$f":"IF(K42=0,IF(J42>0,K38,0),K49*2700/2800)","v":0},{"$f":"IF(K42>0,K38,0)","v":0}]
[null,"風量　Ｌ側",{"$f":"D50*1600/1800","v":0},{"$f":"E50*1800/2000","v":0},{"$f":"F50*2000/2200","v":0},{"$f":"G50*2200/2400","v":0},{"$f":"IF(H42=0,IF(G42>0,K39,0),H50*2400/2500)","v":0},{"$f":"IF(I42=0,IF(H42>0,K39,0),I50*2500/2600)","v":0},{"$f":"IF(J42=0,IF(I42>0,K39,0),J50*2600/2700)","v":0},{"$f":"IF(K42=0,IF(J42>0,K39,0),K50*2700/2800)","v":0},{"$f":"IF(K42>0,K39,0)","v":0}]

{"sheet":"車速表","index":2,"n_rows":31,"n_cols":36,"rows_kept":31,"merged":[[0,1,0,5],[0,6,0,10],[0,11,0,15],[0,16,0,20],[0,21,0,25],[0,26,0,30],[0,34,0,35]]}
["定格エンジン回転数/車速","低－1",{"$nulls":4},"中－1",{"$nulls":4},"低－2",{"$nulls":4},"中－2",{"$nulls":4},"低－3",{"$nulls":4},"中－3",{"$nulls":5},"噴霧ポンプ","ノズル","使用時風量 (㎥）"]
["製　品　名",2400,2500,2600,2700,2800,2400,2500,2600,2700,2800,2400,2500,2600,2700,2800,2400,2500,2600,2700,2800,2400,2500,2600,2700,2800,2400,2500,2600,2700,2800,null,"最大吐出量","最大個数","H側","L側"]
["V512R(V512-Ⅱ)",{"$f":"C3*0.96","v":{"v":1.5360000228881836,"d":"1.5"}},{"v":1.600000023841858,"d":"1.6"},{"$f":"E3*0.96","v":{"v":0,"d":"0.0"}},{"$f":"F3*0.96","v":{"v":0,"d":"0.0"}},null,{"$f":"H3*0.96","v":{"v":0,"d":"0.0"}},{"v":0,"d":"0.0"},{"$f":"J3*0.96","v":{"v":0,"d":"0.0"}},{"$f":"K3*0.96","v":{"v":0,"d":"0.0"}},null,{"$f":"M3*0.96","v":{"v":2.1120000457763672,"d":"2.1"}},{"v":2.200000047683716,"d":"2.2"},{"$f":"O3*0.96","v":{"v":0,"d":"0.0"}},{"$f":"P3*0.96","v":{"v":0,"d":"0.0"}},null,{"$f":"R3*0.96","v":{"v":0,"d":"0.0"}},{"v":0,"d":"0.0"},{"$f":"T3*0.96","v":{"v":0,"d":"0.0"}},{"$f":"U3*0.96","v":{"v":0,"d":"0.0"}},null,{"$f":"W3*0.96","v":{"v":3.1679999542236326,"d":"3.2"}},{"v":3.299999952316284,"d":"3.3"},{"$f":"Y3*0.96","v":{"v":0,"d":"0.0"}},{"$f":"Z3*0.96","v":{"v":0,"d":"0.0"}},null,{"$f":"AB3*0.96","v":{"v":0,"d":"0.0"}},{"v":0,"d":"0.0"},{"$f":"AD3*0.96","v":{"v":0,"d":"0.0"}},{"$f":"AE3*0.96","v":{"v":0,"d":"0.0"}},null,null,{"v":66,"d":"66.0"},14,320,0]
["V522R(V522-Ⅱ)",{"$f":"C4*0.96","v":{"v":1.44,"d":"1.4"}},1.5,{"$f":"E4*0.96","v":{"v":0,"d":"0.0"}},{"$f":"F4*0.96","v":{"v":0,"d":"0.0"}},null,{"$f":"H4*0.96","v":{"v":0,"d":"0.0"}},{"v":0,"d":"0.0"},{"$f":"J4*0.96","v":{"v":0,"d":"0.0"}},{"$f":"K4*0.96","v":{"v":0,"d":"0.0"}},null,{"$f":"M4*0.96","v":{"v":2.0159999084472657,"d":"2.0"}},{"v":2.0999999046325684,"d":"2.1"},{"$f":"O4*0.96","v":{"v":0,"d":"0.0"}},{"$f":"P4*0.96","v":{"v":0,"d":"0.0"}},null,{"$f":"R4*0.96","v":{"v":0,"d":"0.0"}},{"v":0,"d":"0.0"},{"$f":"T4*0.96","v":{"v":0,"d":"0.0"}},{"$f":"U4*0.96","v":{"v":0,"d":"0.0"}},null,{"$f":"W4*0.96","v":{"v":2.9759999084472657,"d":"3.0"}},{"v":3.0999999046325684,"d":"3.1"},{"$f":"Y4*0.96","v":{"v":0,"d":"0.0"}},{"$f":"Z4*0.96","v":{"v":0,"d":"0.0"}},null,{"$f":"AB4*0.96","v":{"v":0,"d":"0.0"}},{"v":0,"d":"0.0"},{"$f":"AD4*0.96","v":{"v":0,"d":"0.0"}},{"$f":"AE4*0.96","v":{"v":0,"d":"0.0"}},null,null,{"v":85,"d":"85.0"},16,520,0]
["VE642R(VE642-Ⅱ)/CE643H(R)/FS643H(R)/VE642C/CE642HC/FS642HC",{"$f":"C5*0.96","v":{"v":1.2740198399999998,"d":"1.3"}},{"$f":"D5*0.96","v":{"v":1.3271039999999998,"d":"1.3"}},{"$f":"E5*0.96","v":{"v":1.3823999999999999,"d":"1.4"}},{"$f":"F5*0.96","v":{"v":1.44,"d":"1.4"}},1.5,{"$f":"H5*0.96","v":{"v":1.443889152,"d":"1.4"}},{"$f":"I5*0.96","v":{"v":1.5040512,"d":"1.5"}},{"$f":"J5*0.96","v":{"v":1.56672,"d":"1.6"}},{"$f":"K5*0.96","v":{"v":1.632,"d":"1.6"}},1.7,{"$f":"M5*0.96","v":{"v":1.7836277759999999,"d":"1.8"}},{"$f":"N5*0.96","v":{"v":1.8579455999999999,"d":"1.9"}},{"$f":"O5*0.96","v":{"v":1.93536,"d":"1.9"}},{"$f":"P5*0.96","v":{"v":2.016,"d":"2.0"}},2.1,{"$f":"R5*0.96","v":{"v":2.1233663999999997,"d":"2.1"}},{"$f":"S5*0.96","v":{"v":2.2118399999999996,"d":"2.2"}},{"$f":"T5*0.96","v":{"v":2.304,"d":"2.3"}},{"$f":"U5*0.96","v":2.4},2.5,{"$f":"W5*0.96","v":{"v":2.6329743359999997,"d":"2.6"}},{"$f":"X5*0.96","v":{"v":2.7426816,"d":"2.7"}},{"$f":"Y5*0.96","v":{"v":2.85696,"d":"2.9"}},{"$f":"Z5*0.96","v":{"v":2.976,"d":"3.0"}},3.1,{"$f":"AB5*0.96","v":{"v":3.0576476159999997,"d":"3.1"}},{"$f":"AC5*0.96","v":{"v":3.1850495999999997,"d":"3.2"}},{"$f":"AD5*0.96","v":{"v":3.31776,"d":"3.3"}},{"$f":"AE5*0.96","v":{"v":3.456,"d":"3.5"}},3.6,null,{"v":95,"d":"95.0"},18,727,517]
["VE1052R(VE1052-Ⅱ)/VE1052C",1.4,{"$nulls":4},1.7,{"$nulls":4},2.1,{"$nulls":4},2.5,{"$nulls":4},3.1,{"$nulls":4},3.6,{"$nulls":5},{"v":112,"d":"112.0"},20,795,527]
["CE1053H(R)/FSE1053H(R)/CE1052HC/FSE1052HC",1.5,{"$nulls":4},1.8,{"$nulls":4},2.2,{"$nulls":4},2.6,{"$nulls":4},3.2,{"$nulls":4},3.8,{"$nulls":5},{"v":112,"d":"112.0"},20,795,527]
["C1050HS/JA1051HC",{"$f":"C8*0.96","v":{"v":1.2902399999999998,"d":"1.3"}},{"$f":"D8*0.96","v":{"v":1.3439999999999999,"d":"1.3"}},1.4,{"$f":"F8*0.96","v":{"v":0,"d":"0.0"}},null,{"$f":"H8*0.96","v":{"v":1.4745599999999999,"d":"1.5"}},{"$f":"I8*0.96","v":{"v":1.536,"d":"1.5"}},1.6,{"$f":"K8*0.96","v":{"v":0,"d":"0.0"}},null,{"$f":"M8*0.96","v":{"v":1.8432,"d":"1.8"}},{"$f":"N8*0.96","v":{"v":1.92,"d":"1.9"}},{"v":2,"d":"2.0"},{"$f":"P8*0.96","v":{"v":0,"d":"0.0"}},null,{"$f":"R8*0.96","v":{"v":2.11968,"d":"2.1"}},{"$f":"S8*0.96","v":{"v":2.2079999999999997,"d":"2.2"}},2.3,{"$f":"U8*0.96","v":{"v":0,"d":"0.0"}},null,{"$f":"W8*0.96","v":{"v":2.7647999999999997,"d":"2.8"}},{"$f":"X8*0.96","v":{"v":2.88,"d":"2.9"}},{"v":3,"d":"3.0"},{"$f":"Z8*0.96","v":{"v":0,"d":"0.0"}},null,{"$f":"AB8*0.96","v":{"v":3.13344,"d":"3.1"}},{"$f":"AC8*0.96","v":{"v":3.264,"d":"3.3"}},3.4,{"$f":"AE8*0.96","v":{"v":0,"d":"0.0"}},null,null,{"v":116,"d":"116.0"},20,800,570]
["VE1050C/CE1051HC/FSE1051HC",{"$f":"C9*0.96","v":{"v":1.3823999999999999,"d":"1.4"}},{"$f":"D9*0.96","v":{"v":1.44,"d":"1.4"}},1.5,null,null,{"$f":"H9*0.96","v":{"v":1.56672,"d":"1.6"}},{"$f":"I9*0.96","v":{"v":1.632,"d":"1.6"}},1.7,null,null,{"$f":"M9*0.96","v":{"v":1.93536,"d":"1.9"}},{"$f":"N9*0.96","v":{"v":2.016,"d":"2.0"}},2.1,null,null,{"$f":"R9*0.96","v":{"v":2.304,"d":"2.3"}},{"$f":"S9*0.96","v":2.4},2.5,null,null,{"$f":"W9*0.96","v":{"v":2.85696,"d":"2.9"}},{"$f":"X9*0.96","v":{"v":2.976,"d":"3.0"}},3.1,null,null,{"$f":"AB9*0.96","v":{"v":3.40992,"d":"3.4"}},{"$f":"AC9*0.96","v":{"v":3.552,"d":"3.6"}},3.7,{"$nulls":3},{"v":116,"d":"116.0"},20,800,570]
["VT1050(C)/CT1050HC(HS)/CE(FST)1050HC/JA1050HC",{"v":1.3439999999999999,"d":"1.3"},1.4,{"v":0,"d":"0.0"},{"v":0,"d":"0.0"},null,{"v":1.632,"d":"1.6"},1.7,{"v":0,"d":"0.0"},{"v":0,"d":"0.0"},null,{"v":2.016,"d":"2.0"},2.1,{"v":0,"d":"0.0"},{"v":0,"d":"0.0"},null,{"v":2.304,"d":"2.3"},2.4,{"v":0,"d":"0.0"},{"v":0,"d":"0.0"},null,{"v":2.88,"d":"2.9"},{"v":3,"d":"3.0"},{"v":0,"d":"0.0"},{"v":0,"d":"0.0"},null,{"v":3.456,"d":"3.5"},3.6,{"v":0,"d":"0.0"},{"v":0,"d":"0.0"},null,null,{"v":112,"d":"112.0"},20,825,550]
["C523(R)/FS523P(R)/C522(PC)/C521/FS521(A)/FS522PC",{"v":1.44,"d":"1.4"},1.5,{"$f":"E11*0.96","v":{"v":0,"d":"0.0"}},{"v":0,"d":"0.0"},null,{"v":0,"d":"0.0"},null,{"$f":"J11*0.96","v":{"v":0,"d":"0.0"}},{"v":0,"d":"0.0"},null,{"v":2.016,"d":"2.0"},2.1,{"$f":"O11*0.96","v":{"v":0,"d":"0.0"}},{"v":0,"d":"0.0"},null,{"v":0,"d":"0.0"},{"v":0,"d":"0.0"},{"$f":"T11*0.96","v":{"v":0,"d":"0.0"}},{"v":0,"d":"0.0"},null,{"v":3.072,"d":"3.1"},3.2,{"$f":"Y11*0.96","v":{"v":0,"d":"0.0"}},{"v":0,"d":"0.0"},null,{"v":0,"d":"0.0"},{"v":0,"d":"0.0"},{"$f":"AD11*0.96","v":{"v":0,"d":"0.0"}},{"v":0,"d":"0.0"},null,null,{"v":63,"d":"63.0"},16,525]
["C522S/C518",{"v":1.44,"d":"1.4"},1.5,{"$f":"E12*0.96","v":{"v":0,"d":"0.0"}},{"$f":"F12*0.96","v":{"v":0,"d":"0.0"}},null,{"v":0,"d":"0.0"},null,{"$f":"J12*0.96","v":{"v":0,"d":"0.0"}},{"$f":"K12*0.96","v":{"v":0,"d":"0.0"}},null,{"v":2.016,"d":"2.0"},2.1,{"$f":"O12*0.96","v":{"v":0,"d":"0.0"}},{"$f":"P12*0.96","v":{"v":0,"d":"0.0"}},null,{"v":0,"d":"0.0"},{"v":0,"d":"0.0"},{"$f":"T12*0.96","v":{"v":0,"d":"0.0"}},{"$f":"U12*0.96","v":{"v":0,"d":"0.0"}},null,{"v":3.072,"d":"3.1"},3.2,{"$f":"Y12*0.96","v":{"v":0,"d":"0.0"}},{"$f":"Z12*0.96","v":{"v":0,"d":"0.0"}},null,{"v":0,"d":"0.0"},{"v":0,"d":"0.0"},{"$f":"AD12*0.96","v":{"v":0,"d":"0.0"}},{"$f":"AE12*0.96","v":{"v":0,"d":"0.0"}},null,null,{"v":47,"d":"47.0"},16,525]
["C522S/Y",{"$f":"C13*0.96","v":{"v":1.44,"d":"1.4"}},1.5,{"$f":"E13*0.96","v":{"v":0,"d":"0.0"}},{"$f":"F13*0.96","v":{"v":0,"d":"0.0"}},null,{"$f":"H13*0.96","v":{"v":0,"d":"0.0"}},null,{"$f":"J13*0.96","v":{"v":0,"d":"0.0"}},{"$f":"K13*0.96","v":{"v":0,"d":"0.0"}},null,{"$f":"M13*0.96","v":{"v":2.016,"d":"2.0"}},2.1,{"$f":"O13*0.96","v":{"v":0,"d":"0.0"}},{"$f":"P13*0.96","v":{"v":0,"d":"0.0"}},null,{"$f":"R13*0.96","v":{"v":0,"d":"0.0"}},{"v":0,"d":"0.0"},{"$f":"T13*0.96","v":{"v":0,"d":"0.0"}},{"$f":"U13*0.96","v":{"v":0,"d":"0.0"}},null,{"$f":"W13*0.96","v":{"v":3.072,"d":"3.1"}},3.2,{"$f":"Y13*0.96","v":{"v":0,"d":"0.0"}},{"$f":"Z13*0.96","v":{"v":0,"d":"0.0"}},null,{"$f":"AB13*0.96","v":{"v":0,"d":"0.0"}},{"v":0,"d":"0.0"},{"$f":"AD13*0.96","v":{"v":0,"d":"0.0"}},{"$f":"AE13*0.96","v":{"v":0,"d":"0.0"}},null,null,{"v":63,"d":"63.0"},16,525]
["C622PC",{"v":1.536,"d":"1.5"},1.6,{"v":0,"d":"0.0"},{"v":0,"d":"0.0"},null,{"v":0,"d":"0.0"},{"$f":"I14*0.96","v":{"v":0,"d":"0.0"}},{"v":0,"d":"0.0"},{"v":0,"d":"0.0"},null,{"v":2.112,"d":"2.1"},2.2,{"v":0,"d":"0.0"},{"v":0,"d":"0.0"},null,{"v":0,"d":"0.0"},{"v":0,"d":"0.0"},{"v":0,"d":"0.0"},{"v":0,"d":"0.0"},null,{"v":3.264,"d":"3.3"},3.4,{"v":0,"d":"0.0"},{"v":0,"d":"0.0"},null,{"v":0,"d":"0.0"},{"v":0,"d":"0.0"},{"v":0,"d":"0.0"},{"v":0,"d":"0.0"},null,null,{"v":93,"d":"93.0"},16,525]
["C525P(R)/C625P(R)/C524P/C624P",{"$f":"C15*0.96","v":{"v":1.536,"d":"1.5"}},1.6,{"$f":"E15*0.96","v":{"v":0,"d":"0.0"}},{"$f":"F15*0.96","v":{"v":0,"d":"0.0"}},null,{"$f":"H15*0.96","v":{"v":0,"d":"0.0"}},{"$f":"I15*0.96","v":{"v":0,"d":"0.0"}},{"$f":"J15*0.96","v":{"v":0,"d":"0.0"}},{"$f":"K15*0.96","v":{"v":0,"d":"0.0"}},null,{"$f":"M15*0.96","v":{"v":2.112,"d":"2.1"}},2.2,{"$f":"O15*0.96","v":{"v":0,"d":"0.0"}},{"$f":"P15*0.96","v":{"v":0,"d":"0.0"}},null,{"$f":"R15*0.96","v":{"v":0,"d":"0.0"}},{"v":0,"d":"0.0"},{"$f":"T15*0.96","v":{"v":0,"d":"0.0"}},{"$f":"U15*0.96","v":{"v":0,"d":"0.0"}},null,{"$f":"W15*0.96","v":{"v":3.264,"d":"3.3"}},3.4,{"$f":"Y15*0.96","v":{"v":0,"d":"0.0"}},null,null,{"$f":"AB15*0.96","v":{"v":0,"d":"0.0"}},{"v":0,"d":"0.0"},{"$f":"AD15*0.96","v":{"v":0,"d":"0.0"}},{"$f":"AE15*0.96","v":{"v":0,"d":"0.0"}},null,null,{"v":93,"d":"93.0"},16,560]
["C630S/CE(FS)630H/CE631H",{"v":1.3439999999999999,"d":"1.3"},1.4,{"v":0,"d":"0.0"},{"v":0,"d":"0.0"},null,{"v":1.632,"d":"1.6"},1.7,{"v":0,"d":"0.0"},{"v":0,"d":"0.0"},null,{"v":2.016,"d":"2.0"},2.1,{"v":0,"d":"0.0"},{"v":0,"d":"0.0"},null,2.4,2.5,{"v":0,"d":"0.0"},{"v":0,"d":"0.0"},null,{"v":2.976,"d":"3.0"},3.1,{"v":0,"d":"0.0"},{"v":0,"d":"0.0"},null,{"v":3.456,"d":"3.5"},3.6,{"v":0,"d":"0.0"},{"v":0,"d":"0.0"},null,null,{"v":93,"d":"93.0"},18,642,530]
["CE(FST)640HC/CE641HC",{"$f":"C17*0.96","v":{"v":1.3439999999999999,"d":"1.3"}},1.4,{"$f":"E17*0.96","v":{"v":0,"d":"0.0"}},{"$f":"F17*0.96","v":{"v":0,"d":"0.0"}},null,{"$f":"H17*0.96","v":{"v":1.632,"d":"1.6"}},1.7,{"$f":"J17*0.96","v":{"v":0,"d":"0.0"}},{"$f":"K17*0.96","v":{"v":0,"d":"0.0"}},null,{"$f":"M17*0.96","v":{"v":2.016,"d":"2.0"}},2.1,{"$f":"O17*0.96","v":{"v":0,"d":"0.0"}},{"$f":"P17*0.96","v":{"v":0,"d":"0.0"}},null,{"$f":"R17*0.96","v":2.4},2.5,{"$f":"T17*0.96","v":{"v":0,"d":"0.0"}},{"$f":"U17*0.96","v":{"v":0,"d":"0.0"}},null,{"$f":"W17*0.96","v":{"v":2.976,"d":"3.0"}},3.1,{"$f":"Y17*0.96","v":{"v":0,"d":"0.0"}},{"$f":"Z17*0.96","v":{"v":0,"d":"0.0"}},null,{"$f":"AB17*0.96","v":{"v":3.456,"d":"3.5"}},3.6,{"$f":"AD17*0.96","v":{"v":0,"d":"0.0"}},{"$f":"AE17*0.96","v":{"v":0,"d":"0.0"}},null,null,{"v":93,"d":"93.0"},18,728,530]
["CT1020",{"v":1.44,"d":"1.4"},1.5,{"v":0,"d":"0.0"},{"v":0,"d":"0.0"},null,{"v":0,"d":"0.0"},{"$f":"I18*0.96","v":{"v":0,"d":"0.0"}},{"v":0,"d":"0.0"},{"v":0,"d":"0.0"},null,{"v":2.112,"d":"2.1"},2.2,{"v":0,"d":"0.0"},{"v":0,"d":"0.0"},null,{"v":0,"d":"0.0"},{"$f":"S18*0.96","v":{"v":0,"d":"0.0"}},{"v":0,"d":"0.0"},{"v":0,"d":"0.0"},null,{"v":2.976,"d":"3.0"},3.1,{"v":0,"d":"0.0"},{"v":0,"d":"0.0"},null,{"v":0,"d":"0.0"},{"$f":"AC18*0.96","v":{"v":0,"d":"0.0"}},{"v":0,"d":"0.0"},{"v":0,"d":"0.0"},null,null,{"v":112,"d":"112.0"},20,825,550]
["V521(A)",{"v":1.44,"d":"1.4"},1.5,{"v":0,"d":"0.0"},{"$f":"F19*0.96","v":{"v":0,"d":"0.0"}},null,{"v":0,"d":"0.0"},{"$f":"I19*0.96","v":{"v":0,"d":"0.0"}},{"v":0,"d":"0.0"},{"$f":"K19*0.96","v":{"v":0,"d":"0.0"}},null,{"v":2.016,"d":"2.0"},2.1,{"v":0,"d":"0.0"},{"$f":"P19*0.96","v":{"v":0,"d":"0.0"}},null,{"v":0,"d":"0.0"},{"$f":"S19*0.96","v":{"v":0,"d":"0.0"}},{"v":0,"d":"0.0"},{"$f":"U19*0.96","v":{"v":0,"d":"0.0"}},null,{"v":2.976,"d":"3.0"},3.1,{"v":0,"d":"0.0"},{"$f":"Z19*0.96","v":{"v":0,"d":"0.0"}},null,{"v":0,"d":"0.0"},{"$f":"AC19*0.96","v":{"v":0,"d":"0.0"}},{"v":0,"d":"0.0"},{"$f":"AE19*0.96","v":{"v":0,"d":"0.0"}},null,null,{"v":63,"d":"63.0"},16,495]
["V518(A)",{"v":1.44,"d":"1.4"},1.5,{"v":0,"d":"0.0"},{"v":0,"d":"0.0"},null,{"v":0,"d":"0.0"},{"v":0,"d":"0.0"},{"v":0,"d":"0.0"},{"v":0,"d":"0.0"},null,{"v":2.016,"d":"2.0"},2.1,{"v":0,"d":"0.0"},{"v":0,"d":"0.0"},null,{"v":0,"d":"0.0"},{"v":0,"d":"0.0"},{"v":0,"d":"0.0"},{"v":0,"d":"0.0"},null,{"v":2.976,"d":"3.0"},3.1,{"v":0,"d":"0.0"},{"v":0,"d":"0.0"},null,{"v":0,"d":"0.0"},{"v":0,"d":"0.0"},{"v":0,"d":"0.0"},{"v":0,"d":"0.0"},null,null,{"v":47,"d":"47.0"},16,410]
["V522",{"v":1.44,"d":"1.4"},1.5,{"$nulls":3},{"v":0,"d":"0.0"},{"$nulls":4},{"v":2.0063999999999997,"d":"2.0"},{"v":2.09,"d":"2.1"},{"$nulls":3},{"v":0,"d":"0.0"},{"$nulls":4},{"v":2.9952,"d":"3.0"},{"v":3.12,"d":"3.1"},{"$nulls":3},{"v":0,"d":"0.0"},{"$nulls":5},69.8,16,520]
["V630",{"v":1.44,"d":"1.4"},1.5,{"v":0,"d":"0.0"},{"v":0,"d":"0.0"},null,{"v":0,"d":"0.0"},{"v":0,"d":"0.0"},{"v":0,"d":"0.0"},{"v":0,"d":"0.0"},null,{"v":1.92,"d":"1.9"},{"v":2,"d":"2.0"},{"v":0,"d":"0.0"},{"v":0,"d":"0.0"},null,{"v":0,"d":"0.0"},{"v":0,"d":"0.0"},{"v":0,"d":"0.0"},{"v":0,"d":"0.0"},null,{"v":2.976,"d":"3.0"},3.1,{"v":0,"d":"0.0"},{"v":0,"d":"0.0"},null,{"v":0,"d":"0.0"},{"v":0,"d":"0.0"},{"v":0,"d":"0.0"},{"v":0,"d":"0.0"},null,null,{"v":93,"d":"93.0"},18,642,530]
["VE640C",{"v":1.3439999999999999,"d":"1.3"},1.4,{"$f":"E23*0.96","v":{"v":0,"d":"0.0"}},{"v":0,"d":"0.0"},null,{"v":1.632,"d":"1.6"},1.7,{"$f":"J23*0.96","v":{"v":0,"d":"0.0"}},{"v":0,"d":"0.0"},null,{"v":2.016,"d":"2.0"},2.1,{"$f":"O23*0.96","v":{"v":0,"d":"0.0"}},{"v":0,"d":"0.0"},null,{"v":2.304,"d":"2.3"},2.4,{"$f":"T23*0.96","v":{"v":0,"d":"0.0"}},{"v":0,"d":"0.0"},null,{"v":2.88,"d":"2.9"},{"v":3,"d":"3.0"},{"$f":"Y23*0.96","v":{"v":0,"d":"0.0"}},{"v":0,"d":"0.0"},null,{"v":3.456,"d":"3.5"},3.6,{"$f":"AD23*0.96","v":{"v":0,"d":"0.0"}},{"v":0,"d":"0.0"},null,null,{"v":93,"d":"93.0"},18,728,530]
["C615",{"v":1.3439999999999999,"d":"1.3"},1.4,{"$f":"E24*0.96","v":{"v":0,"d":"0.0"}},{"v":0,"d":"0.0"},null,{"v":0,"d":"0.0"},{"$f":"I24*0.96","v":{"v":0,"d":"0.0"}},{"$f":"J24*0.96","v":{"v":0,"d":"0.0"}},{"v":0,"d":"0.0"},null,{"v":1.92,"d":"1.9"},{"v":2,"d":"2.0"},{"$f":"O24*0.96","v":{"v":0,"d":"0.0"}},{"v":0,"d":"0.0"},null,{"v":0,"d":"0.0"},{"$f":"S24*0.96","v":{"v":0,"d":"0.0"}},{"$f":"T24*0.96","v":{"v":0,"d":"0.0"}},{"v":0,"d":"0.0"},null,{"v":3.072,"d":"3.1"},3.2,{"$f":"Y24*0.96","v":{"v":0,"d":"0.0"}},{"v":0,"d":"0.0"},null,{"v":0,"d":"0.0"},{"$f":"AC24*0.96","v":{"v":0,"d":"0.0"}},{"$f":"AD24*0.96","v":{"v":0,"d":"0.0"}},{"v":0,"d":"0.0"},null,null,{"v":90,"d":"90.0"},18,620,440]
["CT615",{"v":1.3439999999999999,"d":"1.3"},1.4,{"$f":"E25*0.96","v":{"v":0,"d":"0.0"}},{"v":0,"d":"0.0"},null,{"v":0,"d":"0.0"},{"$f":"I25*0.96","v":{"v":0,"d":"0.0"}},{"$f":"J25*0.96","v":{"v":0,"d":"0.0"}},{"v":0,"d":"0.0"},null,{"v":1.92,"d":"1.9"},{"v":2,"d":"2.0"},{"$f":"O25*0.96","v":{"v":0,"d":"0.0"}},{"v":0,"d":"0.0"},null,{"v":0,"d":"0.0"},{"$f":"S25*0.96","v":{"v":0,"d":"0.0"}},{"$f":"T25*0.96","v":{"v":0,"d":"0.0"}},{"v":0,"d":"0.0"},null,{"v":3.072,"d":"3.1"},3.2,{"$f":"Y25*0.96","v":{"v":0,"d":"0.0"}},{"v":0,"d":"0.0"},null,{"v":0,"d":"0.0"},{"$f":"AC25*0.96","v":{"v":0,"d":"0.0"}},{"$f":"AD25*0.96","v":{"v":0,"d":"0.0"}},{"v":0,"d":"0.0"},null,null,{"v":90,"d":"90.0"},18,720,510]
["FSC641/FSC1041",{"v":1.0192158719999997,"d":"1.0"},{"v":1.0616831999999998,"d":"1.1"},{"v":1.1059199999999998,"d":"1.1"},{"v":1.152,"d":"1.2"},1.2,{"v":1.868562432,"d":"1.9"},{"v":1.9464192,"d":"1.9"},{"v":2.02752,"d":"2.0"},{"v":2.112,"d":"2.1"},2.2,{"v":1.3589544959999997,"d":"1.4"},{"v":1.4155775999999998,"d":"1.4"},{"v":1.4745599999999999,"d":"1.5"},{"v":1.536,"d":"1.5"},1.6,{"v":2.5480396799999996,"d":"2.5"},{"v":2.6542079999999997,"d":"2.7"},{"v":2.7647999999999997,"d":"2.8"},{"v":2.88,"d":"2.9"},{"v":3,"d":"3.0"},{"v":2.208301056,"d":"2.2"},{"v":2.3003136,"d":"2.3"},{"v":2.39616,"d":"2.4"},{"v":2.496,"d":"2.5"},2.6,{"v":4.076863487999999,"d":"4.1"},{"v":4.246732799999999,"d":"4.2"},{"v":4.423679999999999,"d":"4.4"},{"v":4.608,"d":"4.6"},4.8,null,{"v":96,"d":"96.0"},18,645,467]
["FSC615W",{"v":1.20324096,"d":"1.2"},{"v":1.253376,"d":"1.3"},{"v":1.3056,"d":"1.3"},{"v":1.36,"d":"1.4"},null,{"v":0,"d":"0.0"},{"v":0,"d":"0.0"},{"v":0,"d":"0.0"},null,null,{"v":1.5394406399999998,"d":"1.5"},{"v":1.603584,"d":"1.6"},{"v":1.6703999999999999,"d":"1.7"},{"v":1.74,"d":"1.7"},null,{"v":0,"d":"0.0"},{"v":0,"d":"0.0"},{"v":0,"d":"0.0"},{"v":0,"d":"0.0"},null,{"v":2.5922764799999998,"d":"2.6"},{"v":2.700288,"d":"2.7"},{"v":2.8128,"d":"2.8"},{"v":2.93,"d":"2.9"},null,{"v":0,"d":"0.0"},{"v":0,"d":"0.0"},{"v":0,"d":"0.0"},{"v":0,"d":"0.0"},null,null,{"v":90,"d":"90.0"},18,670,420]
["FSC1015W",{"v":1.0616831999999998,"d":"1.1"},{"v":1.1059199999999998,"d":"1.1"},{"v":1.152,"d":"1.2"},1.2,null,{"v":2.0348927999999997,"d":"2.0"},{"v":2.11968,"d":"2.1"},{"v":2.2079999999999997,"d":"2.2"},2.3,null,{"v":1.4155775999999998,"d":"1.4"},{"v":1.4745599999999999,"d":"1.5"},{"v":1.536,"d":"1.5"},1.6,null,{"v":2.5657343999999997,"d":"2.6"},{"v":2.67264,"d":"2.7"},{"v":2.784,"d":"2.8"},2.9,null,{"v":2.3003136,"d":"2.3"},{"v":2.39616,"d":"2.4"},{"v":2.496,"d":"2.5"},2.6,null,{"v":4.3352064,"d":"4.3"},{"v":4.51584,"d":"4.5"},{"v":4.704,"d":"4.7"},4.9,null,null,{"v":90,"d":"90.0"},20,740,540]
["V600W",{"v":1.3439999999999999,"d":"1.3"},1.4,{"v":0,"d":"0.0"},{"v":0,"d":"0.0"},null,{"v":0,"d":"0.0"},{"v":0,"d":"0.0"},{"v":0,"d":"0.0"},{"v":0,"d":"0.0"},null,{"v":1.8239999999999998,"d":"1.8"},1.9,{"v":0,"d":"0.0"},{"v":0,"d":"0.0"},null,{"v":0,"d":"0.0"},{"v":0,"d":"0.0"},{"v":0,"d":"0.0"},{"v":0,"d":"0.0"},null,{"v":2.976,"d":"3.0"},3.1,{"v":0,"d":"0.0"},{"v":0,"d":"0.0"},null,{"v":0,"d":"0.0"},{"v":0,"d":"0.0"},{"v":0,"d":"0.0"},{"v":0,"d":"0.0"},null,null,{"v":90,"d":"90.0"},18,520,440]
["VT600W",{"v":1.3439999999999999,"d":"1.3"},1.4,{"v":0,"d":"0.0"},{"v":0,"d":"0.0"},null,{"v":0,"d":"0.0"},{"v":0,"d":"0.0"},{"v":0,"d":"0.0"},{"v":0,"d":"0.0"},null,{"v":1.8239999999999998,"d":"1.8"},1.9,{"v":0,"d":"0.0"},{"v":0,"d":"0.0"},null,{"v":0,"d":"0.0"},{"v":0,"d":"0.0"},{"v":0,"d":"0.0"},{"v":0,"d":"0.0"},null,{"v":2.976,"d":"3.0"},3.1,{"v":0,"d":"0.0"},{"v":0,"d":"0.0"},null,{"v":0,"d":"0.0"},{"v":0,"d":"0.0"},{"v":0,"d":"0.0"},{"v":0,"d":"0.0"},null,null,{"v":90,"d":"90.0"},18,730,490]
["YE(YSE)1051HC/YE(YM)1050HC/YMS1050HC",{"v":1.3439999999999999,"d":"1.3"},1.4,{"v":0,"d":"0.0"},{"v":0,"d":"0.0"},null,{"v":1.632,"d":"1.6"},1.7,{"v":0,"d":"0.0"},{"v":0,"d":"0.0"},null,{"v":2.016,"d":"2.0"},2.1,{"v":0,"d":"0.0"},{"v":0,"d":"0.0"},null,{"v":2.304,"d":"2.3"},2.4,{"v":0,"d":"0.0"},{"v":0,"d":"0.0"},null,{"v":2.88,"d":"2.9"},{"v":3,"d":"3.0"},{"v":0,"d":"0.0"},{"v":0,"d":"0.0"},null,{"v":3.456,"d":"3.5"},3.6,{"v":0,"d":"0.0"},{"v":0,"d":"0.0"},null,null,{"v":116,"d":"116.0"},20,825,550]

{"sheet":"吐出量表","index":3,"n_rows":21,"n_cols":10,"rows_kept":21,"hidden":true}
[null,"1.0MPa","1.5MPa","2.0MPa",null,"散布幅","走行距離（ｍ）"]
["Φ0.8","0.98","1.21",{"v":1.4,"d":"1.40"},null,"3m",333]
["Φ1.0","1.29",1.59,1.83,null,"3.5m",285]
["Φ1.2","1.72","2.10",2.37,null,"4m",250,null,"横(m)","=散布幅×２"]
["Φ1.2(3H)","2.58",3.17,3.64,null,"4.5m",222,null,"縦(m)","=10a÷横幅(m)"]
["Φ1.5","2.35",2.85,{"v":3.3,"d":"3.30"},null,"5m",200,null,"走行距離","=縦×１（両側散布）+縦×２×1/2（片側散布）=縦×２往復"]
["Φ1.5(3H)","4.23","4.89",5.31,null,"5.6m",177,null,null,"=1000㎡÷（散布幅×2列）×2往復"]
["Φ1.8","2.80","3.50",4.06,null,"6m",167,null,null,"=1000÷散布幅"]
["Φ1.8(3H)","5.04",6.01,6.81,null,"6.5m",154]
["黄","1.01",1.22,{"v":1.4,"d":"1.40"},null,"7m",143]
["オレンジ","1.34",1.62,1.85,null,"7.5m",133]
["赤","1.94",2.37,2.74,null,"8m",125]
["緑","2.42",2.97,3.41]
["SV-23-40K","1.9","2.3"]
["SV-30-55K","2.5","3.0"]
["CV1080","0.9","1.1"]
["CV1780",{"v":1.4,"d":"1.40"},{"v":1.8,"d":"1.80"}]
["固定φ0.8",0.66,0.81,0.93]
["固定φ1.0",1.53,1.85,2.12]
["固定φ1.2",1.85,2.23,2.55]
["固定φ1.5",3.11,3.77,4.33]

{"sheet":"追加登録","index":4,"n_rows":25,"n_cols":6,"rows_kept":25,"hidden":true,"merged":[[3,3,3,6]]}
[null,"追加する製品データを入力後、「製品データ追加」ボタンをクリックしてください。"]
[]
[]
[null,"製品名",null,"C523/FS523P"]
[null,"エンジン定格回転数",null,2500,"rpm","←リストから選択（それ以外の回転数は対応不可）。"]
[null,"定格回転時車速","低-1",1.5,"km/h"]
[null,null,"中-1",0,"km/h","←副変速に「中」がない機種は、中-1～3は0にする。"]
[null,null,"低-2",2.1,"km/h"]
[null,null,"中-2",0,"km/h"]
[null,null,"低-3",3.2,"km/h"]
[null,null,"中-3",0,"km/h"]
[null,"噴霧ポンプ吐出量",null,63,"L/分","←カタログ値（余水考慮前）を入力する。"]
[null,"使用時風量","H側",525,"㎥/分","←風量切り替えがない機種はH側に入力する。"]
[null,null,"L側",null,"㎥/分"]
[null,"ノズル個数",null,16,"個"]
{"$rows_empty":9}
[null,"※登録したデータを削除するときは、「車速表」シートのデータを手動で行削除してください。"]