{"text_format":"3","workbook":"xlsx","n_sheets":4,"sheets":["■散布量計算シート","作業シート","吐出量表","追加登録"],"not_rendered":{"images":2,"macros":1,"defined_names":6,"comments":2},"read":"whole","date_system":"1900"}

{"sheet":"■散布量計算シート","index":0,"n_rows":57,"n_cols":11,"rows_kept":57,"merged":[[0,1,0,9],[1,5,1,7],[2,4,2,8],[4,3,4,4],[4,6,4,8],[6,3,6,10],[8,1,8,2],[8,3,8,5],[8,8,8,9],[10,1,10,10],[11,1,11,2],[13,1,13,2],[13,3,13,4],[15,1,15,2],[15,3,15,4],[17,1,17,2],[19,1,19,2],[19,5,19,6],[19,7,19,8],[20,6,20,7],[21,3,21,10],[22,1,22,2],[23,1,23,2],[24,1,24,2],[26,6,26,10],[31,1,31,10],[32,1,32,2],[34,1,34,2],[34,3,34,4],[36,1,36,2],[36,3,36,4],[38,1,38,2],[40,1,40,2],[40,5,40,6],[40,7,40,8],[41,6,41,7],[42,3,42,10],[43,1,43,2],[44,1,44,2],[45,1,45,2],[47,6,47,10],[50,1,50,10],[52,1,52,3],[52,5,52,10],[53,1,53,3],[53,5,53,10],[54,1,56,4],[54,5,54,10],[55,5,55,10],[56,5,56,10],[57,1,57,10]]}
[]
[{"$nulls":5},"散布量計算"]
[{"$nulls":4},"＜＜　HST走行方式　＞＞"]
[]
[null,"お客様","おところ",null,null,"お名前",{"$nulls":3},"様"]
[]
[null,"製品名","3S-"]
[]
[null,"計算担当者",{"$nulls":6},{"$f":"NOW()","v":"2025-03-10T13:05:26.320"},null,"作成"]
[]
[]
[null,"■散布条件-１"]
[]
[null,"栽培品目/圃場名",{"$nulls":4},"噴霧方向","噴板名称","ノズル個数","吐出量"]
[{"$nulls":9},{"$f":"作業シート!G17","v":{"v":0,"d":"0.0"}},{"$f":"IF($J$18>0,J15/$J$18,0)","v":{"v":0,"d":"0%"}}]
[null,"散布幅（列間隔）",{"$nulls":7},{"$f":"作業シート!G18","v":{"v":0,"d":"0.0"}},{"$f":"IF($J$18>0,J16/$J$18,0)","v":{"v":0,"d":"0%"}}]
[null,null,"走行距離",{"$f":"IF(D16<>\"\",VLOOKUP(D16,走行距離,2,FALSE),\"\")","v":""},"(m/10a)",{"$nulls":4},{"$f":"作業シート!G19","v":{"v":0,"d":"0.0"}},{"v":0,"d":"0%"}]
[null,"噴霧圧力",null,null,"(MPa)",null,null,"合　計",{"$f":"SUM(I15:I17)","v":0},{"$f":"SUM(J15:J17)","v":{"v":0,"d":"0.0"}}]
[{"$nulls":9},"(L/分）"]
[null,"エンジン回転数",null,null,"(rpm)",{"$f":"\"    使用時風量    \" & IF(D7<>\"\",ROUND(D20/VLOOKUP(D7,追加登録!A:F,3,FALSE)*VLOOKUP(D7,追加登録!A:F,4,FALSE),0),0)","v":"    使用時風量    0"},null,"(㎥/分)　噴霧ポンプ吐出量",null,{"$f":"IF(D7<>\"\",D20/VLOOKUP(D7,追加登録!A:F,3,FALSE)*VLOOKUP(D7,追加登録!A:F,5,FALSE)*0.85,0)","v":0},"(L/分）"]
[{"$nulls":6},"ノズル最大個数",null,{"$f":"IF($D$7<>0,VLOOKUP($D$7,追加登録!A:F,6,FALSE),0)","v":0}]
[]
[null,"散布量(L/10a)",null,100,150,200,250,300,350,400,450]
[null,"車速　（km/h）",null,{"$f":"作業シート!C23","v":{"v":0,"d":"0.0"}},{"$f":"作業シート!D23","v":{"v":0,"d":"0.0"}},{"$f":"作業シート!E23","v":{"v":0,"d":"0.0"}},{"$f":"作業シート!F23","v":{"v":0,"d":"0.0"}},{"$f":"作業シート!G23","v":{"v":0,"d":"0.0"}},{"$f":"作業シート!H23","v":{"v":0,"d":"0.0"}},{"$f":"作業シート!I23","v":{"v":0,"d":"0.0"}},{"$f":"作業シート!J23","v":{"v":0,"d":"0.0"}}]
[null,"散布時間（分/10a）",null,{"$f":"IF(D24=0,\"\",$D$17/1000/D24*60)","v":""},{"$f":"IF(E24=0,\"\",$D$17/1000/E24*60)","v":""},"","","","","",""]
[{"$nulls":3},500,550,600]
[{"$nulls":3},{"$f":"作業シート!K23","v":{"v":0,"d":"0.0"}},{"$f":"作業シート!L23","v":{"v":0,"d":"0.0"}},{"$f":"作業シート!M23","v":{"v":0,"d":"0.0"}},{"$f":"IF(D7<>\"\",IF($D$20>VLOOKUP(D7,追加登録!A:F,3,FALSE),\"Error : エンジン回転数超過 \",\"\")&IF(I18>I21,\"  Error : ノズル個数超過 \",\"\")&IF(J18>J20,\"  Error : 噴霧ポンプ吐出量不足\",\"\"),\"\")","v":""}]
[{"$nulls":3},{"$f":"IF(D27=0,\"\",$D$17/1000/D27*60)","v":""},{"$f":"IF(E27=0,\"\",$D$17/1000/E27*60)","v":""},"",{"$f":"作業シート!F28","v":{"v":0,"d":"0.0"}},{"$f":"作業シート!G28","v":{"v":0,"d":"0.0"}},{"$f":"作業シート!H28","v":{"v":0,"d":"0.0"}},{"$f":"作業シート!I28","v":{"v":0,"d":"0.0"}},{"$f":"作業シート!J28","v":{"v":0,"d":"0.0"}}]
[]
[]
[]
[]
[null,"■散布条件-2"]
[]
[null,"栽培品目/圃場名",{"$nulls":4},"噴霧方向","噴板名称","ノズル個数","吐出量"]
[{"$nulls":9},{"$f":"作業シート!G34","v":{"v":0,"d":"0.0"}},{"$f":"IF($J$39>0,J36/$J$39,0)","v":{"v":0,"d":"0%"}}]
[null,"散布幅（列間隔）",{"$nulls":7},{"$f":"作業シート!G35","v":{"v":0,"d":"0.0"}},{"$f":"IF($J$39>0,J37/$J$39,0)","v":{"v":0,"d":"0%"}}]
[null,null,"走行距離",{"$f":"IF(D37<>\"\",VLOOKUP(D37,走行距離,2,FALSE),\"\")","v":""},"(m/10a)",{"$nulls":4},{"$f":"作業シート!G36","v":{"v":0,"d":"0.0"}},{"v":0,"d":"0%"}]
[null,"噴霧圧力",null,null,"(MPa)",null,null,"合　計",{"$f":"SUM(I36:I38)","v":0},{"$f":"SUM(J36:J38)","v":{"v":0,"d":"0.0"}}]
[{"$nulls":9},"(L/分）"]
[null,"エンジン回転数",null,null,"(rpm)",{"$f":"\"    使用時風量    \"  & IF(D7<>\"\",ROUND(D41/VLOOKUP(D7,追加登録!A:F,3,FALSE)*VLOOKUP(D7,追加登録!A:F,4,FALSE),0),0)","v":"    使用時風量    0"},null,"(㎥/分)　噴霧ポンプ吐出量",null,{"$f":"IF(D7<>\"\",D41/VLOOKUP(D7,追加登録!A:F,3,FALSE)*VLOOKUP(D7,追加登録!A:F,5,FALSE)*0.85,0)","v":0},"(L/分）"]
[{"$nulls":6},"ノズル最大個数",null,{"$f":"IF($D$7<>0,VLOOKUP($D$7,追加登録!A:F,6,FALSE),0)","v":0}]
[]
[null,"散布量(L/10a)",null,100,150,200,250,300,350,400,450]
[null,"車速　（km/h）",null,{"$f":"作業シート!C40","v":{"v":0,"d":"0.0"}},{"$f":"作業シート!D40","v":{"v":0,"d":"0.0"}},{"$f":"作業シート!E40","v":{"v":0,"d":"0.0"}},{"$f":"作業シート!F40","v":{"v":0,"d":"0.0"}},{"$f":"作業シート!G40","v":{"v":0,"d":"0.0"}},{"$f":"作業シート!H40","v":{"v":0,"d":"0.0"}},{"$f":"作業シート!I40","v":{"v":0,"d":"0.0"}},{"$f":"作業シート!J40","v":{"v":0,"d":"0.0"}}]
[null,"散布時間（分/10a）",null,{"$f":"IF(D45=0,\"\",$D$38/1000/D45*60)","v":""},{"$f":"IF(E45=0,\"\",$D$38/1000/E45*60)","v":""},"","","","","",""]
[{"$nulls":3},500,550,600]
[{"$nulls":3},{"$f":"作業シート!K40","v":{"v":0,"d":"0.0"}},{"$f":"作業シート!L40","v":{"v":0,"d":"0.0"}},{"$f":"作業シート!M40","v":{"v":0,"d":"0.0"}},{"$f":"IF(D7<>\"\",IF($D$41>VLOOKUP($D$7,追加登録!A:F,3,FALSE),\"Error : エンジン回転数超過 \",\"\")&IF(I39>I42,\"  Error : ノズル個数超過 \",\"\")&IF(J39>J41,\"  Error : 噴霧ポンプ吐出量不足\",\"\"),\"\")","v":""}]
[{"$nulls":3},{"$f":"IF(D48=0,\"\",$D$38/1000/D48*60)","v":""},{"$f":"IF(E48=0,\"\",$D$38/1000/E48*60)","v":""},"",{"$f":"作業シート!F47","v":{"v":0,"d":"0.0"}},{"$f":"作業シート!G47","v":{"v":0,"d":"0.0"}},{"$f":"作業シート!H47","v":{"v":0,"d":"0.0"}},{"$f":"作業シート!I47","v":{"v":0,"d":"0.0"}},{"$f":"作業シート!J47","v":{"v":0,"d":"0.0"}}]
[]
[]
[]
[null,"噴霧ポンプ圧力の標準値と単位は、",{"$nulls":3},"※防除効果の向上と安全作業のために、できるだけ遅い車速段の選択を強くお勧め致します。"]
[null,"1.5MPa＝15bar≒15kgf/cm2です。",{"$nulls":3},"※入力したノズル個数と吐出量合計(L/分)が能力を超えていないか確認してください。"]
[null,"エンジン回転数は、散布幅や樹高を考慮して薬液が十分到達する風量になるよう選択して下さい。　　　",{"$nulls":3},"※噴霧ポンプ吐出量は、薬液タンクへ戻る余水分の約15%を引いて表示しています。"]
[{"$nulls":5},"※計算上の判断により、取扱説明書と若干異なる場合があります。"]
[{"$nulls":5},"※万一、この散布量計算を利用して生じたいかなる損失にも弊社は一切の責任を負いません。"]

{"sheet":"作業シート","index":1,"n_rows":40,"n_cols":13,"rows_kept":40,"hidden":true,"merged":[[2,2,2,8],[4,0,4,1],[5,0,10,0],[12,0,12,9],[13,0,13,4],[16,0,16,1],[17,0,17,1],[18,0,18,1],[21,0,21,1],[22,0,27,1],[29,0,29,9],[30,0,30,4],[33,0,33,1],[34,0,34,1],[35,0,35,1],[38,0,38,1],[39,0,44,1]]}
[]
[]
["製 品 名","3S-",{"$f":"■散布量計算シート!D7","v":0}]
[]
["エンジン回転数(rpm)",null,1600,1800,2000,2200,2500,2600,2700,2800]
["車速","低-1",{"$f":"G6*0.64","v":{"v":0,"d":"0.0"}},{"$f":"G6*0.72","v":{"v":0,"d":"0.0"}},{"$f":"G6*0.8","v":{"v":0,"d":"0.0"}},{"$f":"G6*0.88","v":{"v":0,"d":"0.0"}},{"$f":"IF(ISERROR(VLOOKUP($C$3,追加登録!$A:$A,2,FALSE))=TRUE,0,VLOOKUP($C$3,追加登録!$A:$A,2,FALSE))","v":{"v":0,"d":"0.0"}},{"$f":"IF(ISERROR(VLOOKUP($C$3,追加登録!$A:$A,3,FALSE))=TRUE,0,VLOOKUP($C$3,追加登録!$A:$A,3,FALSE))","v":{"v":0,"d":"0.0"}},{"$f":"IF(ISERROR(VLOOKUP($C$3,追加登録!$A:$A,4,FALSE))=TRUE,0,VLOOKUP($C$3,追加登録!$A:$A,4,FALSE))","v":{"v":0,"d":"0.0"}},{"$f":"IF(ISERROR(VLOOKUP($C$3,追加登録!$A:$A,5,FALSE))=TRUE,0,VLOOKUP($C$3,追加登録!$A:$A,5,FALSE))","v":{"v":0,"d":"0.0"}}]
[null,"中-1",{"v":0,"d":"0.0"},{"v":0,"d":"0.0"},{"v":0,"d":"0.0"},{"v":0,"d":"0.0"},{"$f":"IF(ISERROR(VLOOKUP($C$3,追加登録!$A:$A,6,FALSE))=TRUE,0,VLOOKUP($C$3,追加登録!$A:$A,6,FALSE))","v":{"v":0,"d":"0.0"}},{"$f":"IF(ISERROR(VLOOKUP($C$3,追加登録!$A:$A,7,FALSE))=TRUE,0,VLOOKUP($C$3,追加登録!$A:$A,7,FALSE))","v":{"v":0,"d":"0.0"}},{"$f":"IF(ISERROR(VLOOKUP($C$3,追加登録!$A:$A,8,FALSE))=TRUE,0,VLOOKUP($C$3,追加登録!$A:$A,8,FALSE))","v":{"v":0,"d":"0.0"}},{"$f":"IF(ISERROR(VLOOKUP($C$3,追加登録!$A:$A,9,FALSE))=TRUE,0,VLOOKUP($C$3,追加登録!$A:$A,9,FALSE))","v":{"v":0,"d":"0.0"}}]
[null,"低-2",{"v":0,"d":"0.0"},{"v":0,"d":"0.0"},{"v":0,"d":"0.0"},{"v":0,"d":"0.0"},{"$f":"IF(ISERROR(VLOOKUP($C$3,追加登録!$A:$A,10,FALSE))=TRUE,0,VLOOKUP($C$3,追加登録!$A:$A,10,FALSE))","v":{"v":0,"d":"0.0"}},{"$f":"IF(ISERROR(VLOOKUP($C$3,追加登録!$A:$A,11,FALSE))=TRUE,0,VLOOKUP($C$3,追加登録!$A:$A,11,FALSE))","v":{"v":0,"d":"0.0"}},{"$f":"IF(ISERROR(VLOOKUP($C$3,追加登録!$A:$A,12,FALSE))=TRUE,0,VLOOKUP($C$3,追加登録!$A:$A,12,FALSE))","v":{"v":0,"d":"0.0"}},{"$f":"IF(ISERROR(VLOOKUP($C$3,追加登録!$A:$A,13,FALSE))=TRUE,0,VLOOKUP($C$3,追加登録!$A:$A,13,FALSE))","v":{"v":0,"d":"0.0"}}]
[null,"中-2",{"v":0,"d":"0.0"},{"v":0,"d":"0.0"},{"v":0,"d":"0.0"},{"v":0,"d":"0.0"},{"$f":"IF(ISERROR(VLOOKUP($C$3,追加登録!$A:$A,14,FALSE))=TRUE,0,VLOOKUP($C$3,追加登録!$A:$A,14,FALSE))","v":{"v":0,"d":"0.0"}},{"$f":"IF(ISERROR(VLOOKUP($C$3,追加登録!$A:$A,15,FALSE))=TRUE,0,VLOOKUP($C$3,追加登録!$A:$A,15,FALSE))","v":{"v":0,"d":"0.0"}},{"$f":"IF(ISERROR(VLOOKUP($C$3,追加登録!$A:$A,16,FALSE))=TRUE,0,VLOOKUP($C$3,追加登録!$A:$A,16,FALSE))","v":{"v":0,"d":"0.0"}},{"$f":"IF(ISERROR(VLOOKUP($C$3,追加登録!$A:$A,17,FALSE))=TRUE,0,VLOOKUP($C$3,追加登録!$A:$A,17,FALSE))","v":{"v":0,"d":"0.0"}}]
[null,"低-3",{"v":0,"d":"0.0"},{"v":0,"d":"0.0"},{"v":0,"d":"0.0"},{"v":0,"d":"0.0"},{"$f":"IF(ISERROR(VLOOKUP($C$3,追加登録!$A:$A,18,FALSE))=TRUE,0,VLOOKUP($C$3,追加登録!$A:$A,18,FALSE))","v":{"v":0,"d":"0.0"}},{"$f":"IF(ISERROR(VLOOKUP($C$3,追加登録!$A:$A,19,FALSE))=TRUE,0,VLOOKUP($C$3,追加登録!$A:$A,19,FALSE))","v":{"v":0,"d":"0.0"}},{"$f":"IF(ISERROR(VLOOKUP($C$3,追加登録!$A:$A,20,FALSE))=TRUE,0,VLOOKUP($C$3,追加登録!$A:$A,20,FALSE))","v":{"v":0,"d":"0.0"}},{"$f":"IF(ISERROR(VLOOKUP($C$3,追加登録!$A:$A,21,FALSE))=TRUE,0,VLOOKUP($C$3,追加登録!$A:$A,21,FALSE))","v":{"v":0,"d":"0.0"}}]
[null,"中-3",{"v":0,"d":"0.0"},{"v":0,"d":"0.0"},{"v":0,"d":"0.0"},{"v":0,"d":"0.0"},{"$f":"IF(ISERROR(VLOOKUP($C$3,追加登録!$A:$A,22,FALSE))=TRUE,0,VLOOKUP($C$3,追加登録!$A:$A,22,FALSE))","v":{"v":0,"d":"0.0"}},{"$f":"IF(ISERROR(VLOOKUP($C$3,追加登録!$A:$A,23,FALSE))=TRUE,0,VLOOKUP($C$3,追加登録!$A:$A,23,FALSE))","v":{"v":0,"d":"0.0"}},{"$f":"IF(ISERROR(VLOOKUP($C$3,追加登録!$A:$A,24,FALSE))=TRUE,0,VLOOKUP($C$3,追加登録!$A:$A,24,FALSE))","v":{"v":0,"d":"0.0"}},{"$f":"IF(ISERROR(VLOOKUP($C$3,追加登録!$A:$A,25,FALSE))=TRUE,0,VLOOKUP($C$3,追加登録!$A:$A,25,FALSE))","v":{"v":0,"d":"0.0"}}]
[]
[]
["作業条件①"]
[]
["名　称",null,"個数","吐出量1","吐出量1.5","吐出量2","吐出量計",{"$nulls":3},"ノズル個数"]
[{"$f":"■散布量計算シート!H15","v":0},{"$f":"■散布量計算シート!#REF!","v":{"$error":"#REF!"}},{"$f":"■散布量計算シート!I15","v":0},{"$f":"IF(ISERROR(VLOOKUP($A17,ノズル吐出量,2,FALSE))=TRUE,0,VLOOKUP($A17,ノズル吐出量,2,FALSE))","v":0},{"$f":"IF(ISERROR(VLOOKUP($A17,ノズル吐出量,3,FALSE))=TRUE,0,VLOOKUP($A17,ノズル吐出量,3,FALSE))","v":{"v":0,"d":"0.00"}},{"$f":"IF(ISERROR(VLOOKUP($A17,ノズル吐出量,4,FALSE))=TRUE,0,VLOOKUP($A17,ノズル吐出量,4,FALSE))","v":0},{"$f":"IF($B$20=1,$C17*D17,IF($B$20=1.5,$C17*E17,IF(B$20=2,$C17*F17,0)))","v":{"v":0,"d":"0.0"}},{"$nulls":3},{"$f":"IF(C3<>0,VLOOKUP(C3,追加登録!A:F,6,FALSE),0)","v":0}]
[{"$f":"■散布量計算シート!H16","v":0},{"$f":"■散布量計算シート!#REF!","v":{"$error":"#REF!"}},{"$f":"■散布量計算シート!I16","v":0},{"$f":"IF(ISERROR(VLOOKUP($A18,ノズル吐出量,2,FALSE))=TRUE,0,VLOOKUP($A18,ノズル吐出量,2,FALSE))","v":0},{"$f":"IF(ISERROR(VLOOKUP($A18,ノズル吐出量,3,FALSE))=TRUE,0,VLOOKUP($A18,ノズル吐出量,3,FALSE))","v":{"v":0,"d":"0.00"}},{"$f":"IF(ISERROR(VLOOKUP($A18,ノズル吐出量,4,FALSE))=TRUE,0,VLOOKUP($A18,ノズル吐出量,4,FALSE))","v":0},{"$f":"IF($B$20=1,$C18*D18,IF($B$20=1.5,$C18*E18,IF(B$20=2,$C18*F18,0)))","v":{"v":0,"d":"0.0"}}]
[{"$f":"■散布量計算シート!H17","v":0},{"$f":"■散布量計算シート!#REF!","v":{"$error":"#REF!"}},{"$f":"■散布量計算シート!I17","v":0},{"$f":"IF(ISERROR(VLOOKUP($A19,ノズル吐出量,2,FALSE))=TRUE,0,VLOOKUP($A19,ノズル吐出量,2,FALSE))","v":0},{"$f":"IF(ISERROR(VLOOKUP($A19,ノズル吐出量,3,FALSE))=TRUE,0,VLOOKUP($A19,ノズル吐出量,3,FALSE))","v":{"v":0,"d":"0.00"}},{"$f":"IF(ISERROR(VLOOKUP($A19,ノズル吐出量,4,FALSE))=TRUE,0,VLOOKUP($A19,ノズル吐出量,4,FALSE))","v":0},{"$f":"IF($B$20=1,$C19*D19,IF($B$20=1.5,$C19*E19,IF(B$20=2,$C19*F19,0)))","v":{"v":0,"d":"0.0"}},null,"走行距離",null,"動噴吐出量","動噴最大吐出量"]
["噴霧ポンプ圧力",{"$f":"■散布量計算シート!D18","v":{"v":0,"d":"0.0"}},{"$f":"SUM(C17:C19)","v":0},null,null,"計",{"$f":"SUM(G17:G19)","v":{"v":0,"d":"0.0"}},"(L/分)",{"$f":"IF(■散布量計算シート!$D$17=\"\",0,■散布量計算シート!$D$17)","v":0},"m",{"$f":"+■散布量計算シート!J20","v":0},{"$f":"IF(C3<>0,VLOOKUP(C3,追加登録!A:F,5,FALSE),0)*0.85","v":0}]
[]
["散布量",null,100,150,200,250,300,350,400,450,500,550,600]
["車速",null,{"$f":"IF($C$20>0,$G$20*$I$20*0.06/C$22,0)","v":{"v":0,"d":"0.0"}},{"v":0,"d":"0.0"},{"v":0,"d":"0.0"},{"v":0,"d":"0.0"},{"v":0,"d":"0.0"},{"v":0,"d":"0.0"},{"v":0,"d":"0.0"},{"v":0,"d":"0.0"},{"v":0,"d":"0.0"},{"v":0,"d":"0.0"},{"v":0,"d":"0.0"}]
{"$rows_empty":7}
["作業条件②"]
[]
["名　称",null,"個数","吐出量1","吐出量1.5","吐出量2","吐出量計",{"$nulls":3},"ノズル個数"]
[{"$f":"■散布量計算シート!H36","v":0},null,{"$f":"■散布量計算シート!I36","v":0},{"$f":"IF(ISERROR(VLOOKUP($A34,ノズル吐出量,2,FALSE))=TRUE,0,VLOOKUP($A34,ノズル吐出量,2,FALSE))","v":{"v":0,"d":"0.00"}},{"$f":"IF(ISERROR(VLOOKUP($A34,ノズル吐出量,3,FALSE))=TRUE,0,VLOOKUP($A34,ノズル吐出量,3,FALSE))","v":{"v":0,"d":"0.00"}},{"$f":"IF(ISERROR(VLOOKUP($A34,ノズル吐出量,4,FALSE))=TRUE,0,VLOOKUP($A34,ノズル吐出量,4,FALSE))","v":{"v":0,"d":"0.00"}},{"$f":"IF($B$37=1,$C34*D34,IF($B$37=1.5,$C34*E34,IF($B$37=2,$C34*F34,0)))","v":{"v":0,"d":"0.0"}},{"$nulls":3},{"$f":"IF(C3<>0,VLOOKUP(C3,追加登録!A:AF,6,FALSE),0)","v":0}]
[{"$f":"■散布量計算シート!H37","v":0},null,{"$f":"■散布量計算シート!I37","v":0},{"$f":"IF(ISERROR(VLOOKUP($A35,ノズル吐出量,2,FALSE))=TRUE,0,VLOOKUP($A35,ノズル吐出量,2,FALSE))","v":{"v":0,"d":"0.00"}},{"$f":"IF(ISERROR(VLOOKUP($A35,ノズル吐出量,3,FALSE))=TRUE,0,VLOOKUP($A35,ノズル吐出量,3,FALSE))","v":{"v":0,"d":"0.00"}},{"$f":"IF(ISERROR(VLOOKUP($A35,ノズル吐出量,4,FALSE))=TRUE,0,VLOOKUP($A35,ノズル吐出量,4,FALSE))","v":{"v":0,"d":"0.00"}},{"$f":"IF($B$37=1,$C35*D35,IF($B$37=1.5,$C35*E35,IF($B$37=2,$C35*F35,0)))","v":{"v":0,"d":"0.0"}}]
[{"$f":"■散布量計算シート!H38","v":0},null,{"$f":"■散布量計算シート!I38","v":0},{"$f":"IF(ISERROR(VLOOKUP($A36,ノズル吐出量,2,FALSE))=TRUE,0,VLOOKUP($A36,ノズル吐出量,2,FALSE))","v":{"v":0,"d":"0.00"}},{"$f":"IF(ISERROR(VLOOKUP($A36,ノズル吐出量,3,FALSE))=TRUE,0,VLOOKUP($A36,ノズル吐出量,3,FALSE))","v":{"v":0,"d":"0.00"}},{"$f":"IF(ISERROR(VLOOKUP($A36,ノズル吐出量,4,FALSE))=TRUE,0,VLOOKUP($A36,ノズル吐出量,4,FALSE))","v":{"v":0,"d":"0.00"}},{"$f":"IF($B$37=1,$C36*D36,IF($B$37=1.5,$C36*E36,IF($B$37=2,$C36*F36,0)))","v":{"v":0,"d":"0.0"}},null,"走行距離",null,"動噴吐出量","動噴最大吐出量"]
["噴霧ポンプ圧力",{"$f":"■散布量計算シート!D39","v":{"v":0,"d":"0.0"}},{"$f":"SUM(C34:C36)","v":0},null,null,"計",{"$f":"SUM(G34:G36)","v":{"v":0,"d":"0.0"}},"(L/分)",{"$f":"IF(■散布量計算シート!$D$38=\"\",0,■散布量計算シート!$D$38)","v":0},"m",{"$f":"+■散布量計算シート!J41","v":0},{"$f":"IF(C3<>0,VLOOKUP(C3,追加登録!A:F,5,FALSE),0)*0.85","v":0}]
[]
["散布量",null,100,150,200,250,300,350,400,450,500,550,600]
["車速",null,{"$f":"IF($C$37>0,$G$37*$I$37*0.06/C$39,0)","v":{"v":0,"d":"0.0"}},{"v":0,"d":"0.0"},{"v":0,"d":"0.0"},{"v":0,"d":"0.0"},{"v":0,"d":"0.0"},{"v":0,"d":"0.0"},{"v":0,"d":"0.0"},{"v":0,"d":"0.0"},{"v":0,"d":"0.0"},{"v":0,"d":"0.0"},{"v":0,"d":"0.0"}]

{"sheet":"吐出量表","index":2,"n_rows":20,"n_cols":10,"rows_kept":20,"hidden":true}
[null,"1.0MPa","1.5MPa","2.0MPa"]
["Φ0.8","0.98","1.21",{"v":1.4,"d":"1.40"},null,"3m",333]
["Φ1.0","1.29",1.59,1.83,null,"3.5m",285]
["Φ1.2","1.72","2.10",2.37,null,"4m",250,null,"横(m)","=散布幅×２"]
["Φ1.5","2.35",2.85,{"v":3.3,"d":"3.30"},null,"4.5m",222,null,"縦(m)","=10a÷横幅(m)"]
["Φ1.5(3H)","4.23","4.89",5.31,null,"5m",200,null,"走行距離","=縦×１（両側散布）+縦×２×1/2（片側散布）=縦×２往復"]
["Φ1.8","2.80","3.50",4.06,null,"5.6m",177,null,null,"=1000㎡÷（散布幅×2列）×2往復"]
["Φ1.8(3H)","5.04",6.01,6.81,null,"6m",167,null,null,"=1000÷散布幅"]
["黄","1.01",1.22,{"v":1.4,"d":"1.40"},null,"6.5m",154]
["オレンジ","1.34",1.62,1.85,null,"7m",143]
["赤","1.94",2.37,2.74,null,"7.5m",133]
["緑","2.42",2.97,3.41,null,"8m",125]
["Φ0.8（白）","0.66",0.81,0.93]
["Φ1.0（白）","1.53",1.85,2.12]
["Φ1.2（白）","1.85",2.23,2.55]
["Φ1.5（白）","3.11",3.77,4.33]
["SV-23-40K","1.9","2.3"]
["SV-30-55K","2.5","3.0"]
["CV1080","0.9","1.1"]
["CV1780",{"v":1.4,"d":"1.40"},{"v":1.8,"d":"1.80"}]

{"sheet":"追加登録","index":3,"n_rows":15,"n_cols":6,"rows_kept":15,"hidden":true}
[null,null,"定格エンジン","使用時","噴霧ポンプ最大","ノズル個数"]
["製　品　名",null,"回転数(rpm)","風量(㎥/分)","吐出量(L/分)","(個)"]
["CH640H(R)/FSH640H(R)",null,2500,700,94,18]
["FSC1001TLG(R)/FSC601TLG(R)/FSC1000TLG/FSC600TLG",null,2800,670,96,18]
["FSC1000TL/600TL",null,2800,670,96,18]
["HE640HC/HE641HC",null,2800,700,95,18]
["H630",null,2800,610,95,18]
["H500/H501",null,2600,500,63,16]
["H620",null,2600,500,90,16]
["HE642H",null,2400,700,95,18]
["FSC1000TLG/FSC600TLG（ミカン機仕様）",null,2800,670,96,26]
["FSC602TL/FSC1002TL",null,3000,664,98,18]
["CH640HX/FSH640HX(ミカン機)",null,2500,700,94,26]
[3]
[4]